Workbook
Name brand: 'WR52 D1'!$M:$M
Name merch: merchtype!$A$1:$B$23
Name merchtype: 'WR52 D1'!$N:$N
Name price: 'WR52 D1'!$B$3
Name shapes: shapes!$A$1:$C$8
Name shipfrom: 'WR52 D1'!$B$5

Sheet Order Summary
A1: Wallride
A2: Order Summary
C6: Merch Group | E6: Total Units | F6: Total Booked
D8: Decks | E8: =SUMIF(merchtype,$D8,'WR52 D1'!X:X) -> 0 | F8: =SUMIF(merchtype,$D8,'WR52 D1'!Z:Z) -> 0
D9: Completes | E9: =SUMIF(merchtype,$D9,'WR52 D1'!X:X) -> 0 | F9: =SUMIF(merchtype,$D9,'WR52 D1'!Z:Z) -> 0
D10: Trucks | E10: =SUMIF(merchtype,$D10,'WR52 D1'!X:X) -> 0 | F10: =SUMIF(merchtype,$D10,'WR52 D1'!Z:Z) -> 0
D11: Wheels | E11: =SUMIF(merchtype,$D11,'WR52 D1'!X:X) -> 0 | F11: =SUMIF(merchtype,$D11,'WR52 D1'!Z:Z) -> 0
D12: Softgoods | E12: =SUMIF(merchtype,$D12,'WR52 D1'!X:X) -> 0 | F12: =SUMIF(merchtype,$D12,'WR52 D1'!Z:Z) -> 0
D13: Hats | E13: =SUMIF(merchtype,$D13,'WR52 D1'!X:X) -> 0 | F13: =SUMIF(merchtype,$D13,'WR52 D1'!Z:Z) -> 0
D14: Accessories | E14: =SUMIF(merchtype,$D14,'WR52 D1'!X:X) -> 0 | F14: =SUMIF(merchtype,$D14,'WR52 D1'!Z:Z) -> 0
C16: Total | E16: =SUM(E8:E15) -> 0 | F16: =SUM(F8:F15) -> 0
C21: Brand | E21: Total Units | F21: Total Booked
D23: Girl | E23: =SUMIF(brand,$D23,'WR52 D1'!X:X) -> 0 | F23: =SUMIF(brand,$D23,'WR52 D1'!Z:Z) -> 0
D24: Chocolate | E24: =SUMIF(brand,$D24,'WR52 D1'!X:X) -> 0 | F24: =SUMIF(brand,$D24,'WR52 D1'!Z:Z) -> 0
D25: Royal | E25: =SUMIF(brand,$D25,'WR52 D1'!X:X) -> 0 | F25: =SUMIF(brand,$D25,'WR52 D1'!Z:Z) -> 0
D26: Crailtap | E26: =SUMIF(brand,$D26,'WR52 D1'!X:X) -> 0 | F26: =SUMIF(brand,$D26,'WR52 D1'!Z:Z) -> 0
C28: Total | E28: =SUM(E23:E27) -> 0 | F28: =SUM(F23:F27) -> 0

Sheet WR52 D1
B1: form codes:
B2: dist | C2: dist/ whsl | F2: Customer: | I2: Shipping: | S2: Units: | X2: Dollars:
B3: =IF(B2="WHSL",9,10) -> 10 | F3: P/O: | S3: =SUM($X$11:$X$233) -> 0 | X3: =SUM(Z11:Z233) -> 0
B4: ship | F4: Notes:
B5: US
L6: オーダー締め切り10/14(水) デリバリー：3月～
D7: X | AC7: Condense
B8: Sku | D8: X | F8: Decks & Softgoods | X8: Total Units | Y8: Unit Price | Z8: Total Price | AC8: =IF(OR(G8="",Z8>0),IF($B$1="form codes:",D8,C8&IF(E8="*"," US","")),"") -> X
B9: =F9&I9 | D9: X | AC9: =IF(OR(G9="",Z9>0),IF($B$1="form codes:",D9,C9&IF(E9="*"," US","")),"") -> X
B10: Girl : Show Flyers Collection | C10: X | F10: =B10 -> Girl : Show Flyers Collection | O10: Qty | AC10: =IF(OR(G10="",Z10>0),IF($B$1="form codes:",C10,#REF!&IF(E10="*"," US","")),"") -> X
B11: =F11&I11 -> GB5201G033 | C11: X | F11: GB5201 | G11: =PROPER(K11) -> Bannerot Show Flyers Deck | I11: G033 | J11: =LEFT(L11,SEARCH(" ",L11)-1)&IF(ISERROR(VLOOKUP(I11,shapes,3,0)),""," "&VLOOKUP(I11,shapes,3,0)) -> 8.5" | K11: =VLOOKUP($B11,'sku master'!B:H,5,0) -> BANNEROT SHOW FLYERS DECK | L11: =VLOOKUP($B11,'sku master'!B:H,7,0) -> 8.5" X 32" | M11: {=INDEX('sku master'!$C$1:$C$705,MATCH($F11,'sku master'!$E$1:$E$705,0))} -> GIRL | N11: =VLOOKUP(VLOOKUP($B11,'sku master'!B:D,3,0),merch,2,0) -> DECKS | X11: =SUM(O11:W11) -> 0 | Y11: 10000 | Z11: =Y11*X11 -> 0 | AC11: =IF(OR(G11="",Z11>0),IF($B$1="form codes:",C11,#REF!&IF(E11="*"," US","")),"")
B12: =F12&I12 -> GB5201G060 | C12: X | F12: GB5201 | G12: =PROPER(K12) -> Bannerot Show Flyers Deck | I12: G060 | J12: =LEFT(L12,SEARCH(" ",L12)-1)&IF(ISERROR(VLOOKUP(I12,shapes,3,0)),""," "&VLOOKUP(I12,shapes,3,0)) -> 9" | K12: =VLOOKUP($B12,'sku master'!B:H,5,0) -> BANNEROT SHOW FLYERS DECK | L12: =VLOOKUP($B12,'sku master'!B:H,7,0) -> 9" X 32.375"-LOVESEAT+ | M12: {=INDEX('sku master'!$C$1:$C$705,MATCH($F12,'sku master'!$E$1:$E$705,0))} -> GIRL | N12: =VLOOKUP(VLOOKUP($B12,'sku master'!B:D,3,0),merch,2,0) -> DECKS | X12: =SUM(O12:W12) -> 0 | Y12: 10000 | Z12: =Y12*X12 -> 0 | AC12: =IF(OR(G12="",Z12>0),IF($B$1="form codes:",C12,#REF!&IF(E12="*"," US","")),"")
B13: =F13&I13 -> GB5202G023 | C13: X | F13: GB5202 | G13: =PROPER(K13) -> Davis Show Flyers Deck | I13: G023 | J13: =LEFT(L13,SEARCH(" ",L13)-1)&IF(ISERROR(VLOOKUP(I13,shapes,3,0)),""," "&VLOOKUP(I13,shapes,3,0)) -> 8.125" | K13: =VLOOKUP($B13,'sku master'!B:H,5,0) -> DAVIS SHOW FLYERS DECK | L13: =VLOOKUP($B13,'sku master'!B:H,7,0) -> 8.125" X 31.625" | M13: {=INDEX('sku master'!$C$1:$C$705,MATCH($F13,'sku master'!$E$1:$E$705,0))} -> GIRL | N13: =VLOOKUP(VLOOKUP($B13,'sku master'!B:D,3,0),merch,2,0) -> DECKS | X13: =SUM(O13:W13) -> 0 | Y13: 10000 | Z13: =Y13*X13 -> 0 | AC13: =IF(OR(G13="",Z13>0),IF($B$1="form codes:",C13,#REF!&IF(E13="*"," US","")),"")
B14: =F14&I14 -> GB5202G052 | C14: X | F14: GB5202 | G14: =PROPER(K14) -> Davis Show Flyers Deck | I14: G052 | J14: =LEFT(L14,SEARCH(" ",L14)-1)&IF(ISERROR(VLOOKUP(I14,shapes,3,0)),""," "&VLOOKUP(I14,shapes,3,0)) -> 8.25" | K14: =VLOOKUP($B14,'sku master'!B:H,5,0) -> DAVIS SHOW FLYERS DECK | L14: =VLOOKUP($B14,'sku master'!B:H,7,0) -> 8.25" X 31.875" | M14: {=INDEX('sku master'!$C$1:$C$705,MATCH($F14,'sku master'!$E$1:$E$705,0))} -> GIRL | N14: =VLOOKUP(VLOOKUP($B14,'sku master'!B:D,3,0),merch,2,0) -> DECKS | X14: =SUM(O14:W14) -> 0 | Y14: 10000 | Z14: =Y14*X14 -> 0 | AC14: =IF(OR(G14="",Z14>0),IF($B$1="form codes:",C14,#REF!&IF(E14="*"," US","")),"")
B15: =F15&I15 -> GB5203G016 | C15: X | F15: GB5203 | G15: =PROPER(K15) -> Pacheco Show Flyers Deck | I15: G016 | J15: =LEFT(L15,SEARCH(" ",L15)-1)&IF(ISERROR(VLOOKUP(I15,shapes,3,0)),""," "&VLOOKUP(I15,shapes,3,0)) -> 8.375" | K15: =VLOOKUP($B15,'sku master'!B:H,5,0) -> PACHECO SHOW FLYERS DECK | L15: =VLOOKUP($B15,'sku master'!B:H,7,0) -> 8.375" X 31.75" | M15: {=INDEX('sku master'!$C$1:$C$705,MATCH($F15,'sku master'!$E$1:$E$705,0))} -> GIRL | N15: =VLOOKUP(VLOOKUP($B15,'sku master'!B:D,3,0),merch,2,0) -> DECKS | X15: =SUM(O15:W15) -> 0 | Y15: 10000 | Z15: =Y15*X15 -> 0 | AC15: =IF(OR(G15="",Z15>0),IF($B$1="form codes:",C15,#REF!&IF(E15="*"," US","")),"")
B16: =F16&I16 -> GB5203G053 | C16: X | F16: GB5203 | G16: =PROPER(K16) -> Pacheco Show Flyers Deck | I16: G053 | J16: =LEFT(L16,SEARCH(" ",L16)-1)&IF(ISERROR(VLOOKUP(I16,shapes,3,0)),""," "&VLOOKUP(I16,shapes,3,0)) -> 8.5" | K16: =VLOOKUP($B16,'sku master'!B:H,5,0) -> PACHECO SHOW FLYERS DECK | L16: =VLOOKUP($B16,'sku master'!B:H,7,0) -> 8.5" X 32" | M16: {=INDEX('sku master'!$C$1:$C$705,MATCH($F16,'sku master'!$E$1:$E$705,0))} -> GIRL | N16: =VLOOKUP(VLOOKUP($B16,'sku master'!B:D,3,0),merch,2,0) -> DECKS | X16: =SUM(O16:W16) -> 0 | Y16: 10000 | Z16: =Y16*X16 -> 0 | AC16: =IF(OR(G16="",Z16>0),IF($B$1="form codes:",C16,#REF!&IF(E16="*"," US","")),"")
B17: =F17&I17 -> GB5204G053 | C17: X | F17: GB5204 | G17: =PROPER(K17) -> Gass Show Flyers Deck | I17: G053 | J17: =LEFT(L17,SEARCH(" ",L17)-1)&IF(ISERROR(VLOOKUP(I17,shapes,3,0)),""," "&VLOOKUP(I17,shapes,3,0)) -> 8.5" | K17: =VLOOKUP($B17,'sku master'!B:H,5,0) -> GASS SHOW FLYERS DECK | L17: =VLOOKUP($B17,'sku master'!B:H,7,0) -> 8.5" X 32" | M17: {=INDEX('sku master'!$C$1:$C$705,MATCH($F17,'sku master'!$E$1:$E$705,0))} -> GIRL | N17: =VLOOKUP(VLOOKUP($B17,'sku master'!B:D,3,0),merch,2,0) -> DECKS | X17: =SUM(O17:W17) -> 0 | Y17: 10000 | Z17: =Y17*X17 -> 0 | AC17: =IF(OR(G17="",Z17>0),IF($B$1="form codes:",C17,#REF!&IF(E17="*"," US","")),"")
B18: =F18&I18 -> GB5204G080 | C18: X | F18: GB5204 | G18: =PROPER(K18) -> Gass Show Flyers Deck | I18: G080 | J18: =LEFT(L18,SEARCH(" ",L18)-1)&IF(ISERROR(VLOOKUP(I18,shapes,3,0)),""," "&VLOOKUP(I18,shapes,3,0)) -> 8" | K18: =VLOOKUP($B18,'sku master'!B:H,5,0) -> GASS SHOW FLYERS DECK | L18: =VLOOKUP($B18,'sku master'!B:H,7,0) -> 8" X 31.88" | M18: {=INDEX('sku master'!$C$1:$C$705,MATCH($F18,'sku master'!$E$1:$E$705,0))} -> GIRL | N18: =VLOOKUP(VLOOKUP($B18,'sku master'!B:D,3,0),merch,2,0) -> DECKS | X18: =SUM(O18:W18) -> 0 | Y18: 10000 | Z18: =Y18*X18 -> 0 | AC18: =IF(OR(G18="",Z18>0),IF($B$1="form codes:",C18,#REF!&IF(E18="*"," US","")),"")
B19: =F19&I19 -> GB5205G045 | C19: X | F19: GB5205 | G19: =PROPER(K19) -> Geering Show Flyers Deck | I19: G045 | J19: =LEFT(L19,SEARCH(" ",L19)-1)&IF(ISERROR(VLOOKUP(I19,shapes,3,0)),""," "&VLOOKUP(I19,shapes,3,0)) -> 8" | K19: =VLOOKUP($B19,'sku master'!B:H,5,0) -> GEERING SHOW FLYERS DECK | L19: =VLOOKUP($B19,'sku master'!B:H,7,0) -> 8" X 31.5" | M19: {=INDEX('sku master'!$C$1:$C$705,MATCH($F19,'sku master'!$E$1:$E$705,0))} -> GIRL | N19: =VLOOKUP(VLOOKUP($B19,'sku master'!B:D,3,0),merch,2,0) -> DECKS | X19: =SUM(O19:W19) -> 0 | Y19: 10000 | Z19: =Y19*X19 -> 0 | AC19: =IF(OR(G19="",Z19>0),IF($B$1="form codes:",C19,#REF!&IF(E19="*"," US","")),"")
B20: =F20&I20 -> GB5205G052 | C20: X | F20: GB5205 | G20: =PROPER(K20) -> Geering Show Flyers Deck | I20: G052 | J20: =LEFT(L20,SEARCH(" ",L20)-1)&IF(ISERROR(VLOOKUP(I20,shapes,3,0)),""," "&VLOOKUP(I20,shapes,3,0)) -> 8.25" | K20: =VLOOKUP($B20,'sku master'!B:H,5,0) -> GEERING SHOW FLYERS DECK | L20: =VLOOKUP($B20,'sku master'!B:H,7,0) -> 8.25" X 31.875" | M20: {=INDEX('sku master'!$C$1:$C$705,MATCH($F20,'sku master'!$E$1:$E$705,0))} -> GIRL | N20: =VLOOKUP(VLOOKUP($B20,'sku master'!B:D,3,0),merch,2,0) -> DECKS | X20: =SUM(O20:W20) -> 0 | Y20: 10000 | Z20: =Y20*X20 -> 0 | AC20: =IF(OR(G20="",Z20>0),IF($B$1="form codes:",C20,#REF!&IF(E20="*"," US","")),"")
B21: =F21&I21 | D21: X | AC21: =IF(OR(G21="",Z21>0),IF($B$1="form codes:",D21,C21&IF(E21="*"," US","")),"") -> X
B22: =B10&" Soft Goods" -> Girl : Show Flyers Collection Soft Goods | D22: X | F22: =B22 -> Girl : Show Flyers Collection Soft Goods | O22: S | P22: M | Q22: L | R22: XL | S22: XXL | AC22: =IF(OR(G22="",Z22>0),IF($B$1="form codes:",D22,C22&IF(E22="*"," US","")),"") -> X
B23: =F23&I23 -> GSW127110010 | D23: X | E23: * | F23: GSW127110 | G23: =PROPER(K23) -> Show Flyer Hoody | I23: 010 | J23: =PROPER(L23) -> Grey Heather | K23: =VLOOKUP($B23,'sku master'!B:H,5,0) -> SHOW FLYER HOODY | L23: =VLOOKUP($B23,'sku master'!B:H,7,0) -> GREY HEATHER | M23: {=INDEX('sku master'!$C$1:$C$705,MATCH($F23,'sku master'!$E$1:$E$705,0))} -> GIRL | N23: =VLOOKUP(VLOOKUP($B23,'sku master'!B:D,3,0),merch,2,0) -> SOFTGOODS | X23: =SUM(O23:W23) -> 0 | Y23: 15000 | Z23: =Y23*X23 -> 0 | AC23: =IF(OR(G23="",Z23>0),IF($B$1="form codes:",D23,C23&IF(E23="*"," US","")),"")
B24: =F24&I24 -> GSW127110106 | D24: X | E24: * | F24: GSW127110 | G24: =PROPER(K24) -> Show Flyer Hoody | I24: 106 | J24: =PROPER(L24) -> Charcoal Heather | K24: =VLOOKUP($B24,'sku master'!B:H,5,0) -> SHOW FLYER HOODY | L24: =VLOOKUP($B24,'sku master'!B:H,7,0) -> CHARCOAL HEATHER | M24: {=INDEX('sku master'!$C$1:$C$705,MATCH($F24,'sku master'!$E$1:$E$705,0))} -> GIRL | N24: =VLOOKUP(VLOOKUP($B24,'sku master'!B:D,3,0),merch,2,0) -> SOFTGOODS | X24: =SUM(O24:W24) -> 0 | Y24: 15000 | Z24: =Y24*X24 -> 0 | AC24: =IF(OR(G24="",Z24>0),IF($B$1="form codes:",D24,C24&IF(E24="*"," US","")),"")
B25: =F25&I25 -> GTS127100001 | D25: X | E25: * | F25: GTS127100 | G25: =PROPER(K25) -> Show Flyer Tee | I25: 001 | J25: =PROPER(L25) -> Black | K25: =VLOOKUP($B25,'sku master'!B:H,5,0) -> SHOW FLYER TEE | L25: =VLOOKUP($B25,'sku master'!B:H,7,0) -> BLACK | M25: {=INDEX('sku master'!$C$1:$C$705,MATCH($F25,'sku master'!$E$1:$E$705,0))} -> GIRL | N25: =VLOOKUP(VLOOKUP($B25,'sku master'!B:D,3,0),merch,2,0) -> SOFTGOODS | X25: =SUM(O25:W25) -> 0 | Y25: 4800 | Z25: =Y25*X25 -> 0 | AC25: =IF(OR(G25="",Z25>0),IF($B$1="form codes:",D25,C25&IF(E25="*"," US","")),"")
B26: =F26&I26 -> GTS127100002 | D26: X | E26: * | F26: GTS127100 | G26: =PROPER(K26) -> Show Flyer Tee | I26: 002 | J26: =PROPER(L26) -> White | K26: =VLOOKUP($B26,'sku master'!B:H,5,0) -> SHOW FLYER TEE | L26: =VLOOKUP($B26,'sku master'!B:H,7,0) -> WHITE | M26: {=INDEX('sku master'!$C$1:$C$705,MATCH($F26,'sku master'!$E$1:$E$705,0))} -> GIRL | N26: =VLOOKUP(VLOOKUP($B26,'sku master'!B:D,3,0),merch,2,0) -> SOFTGOODS | X26: =SUM(O26:W26) -> 0 | Y26: 4800 | Z26: =Y26*X26 -> 0 | AC26: =IF(OR(G26="",Z26>0),IF($B$1="form codes:",D26,C26&IF(E26="*"," US","")),"")
B27: =F27&I27 | D27: X | AC27: =IF(OR(G27="",Z27>0),IF($B$1="form codes:",D27,C27&IF(E27="*"," US","")),"") -> X
B28: Girl : 93 TIL "Stripes" Collection | C28: X | F28: =B28 -> Girl : 93 TIL "Stripes" Collection | O28: Qty | AC28: =IF(OR(G28="",Z28>0),IF($B$1="form codes:",C28,#REF!&IF(E28="*"," US","")),"") -> X
B29: =F29&I29 -> GB5206G052 | C29: X | F29: GB5206 | G29: =PROPER(K29) -> Davis 93 Til Deck | I29: G052 | J29: =LEFT(L29,SEARCH(" ",L29)-1)&IF(ISERROR(VLOOKUP(I29,shapes,3,0)),""," "&VLOOKUP(I29,shapes,3,0)) -> 8.25" | K29: =VLOOKUP($B29,'sku master'!B:H,5,0) -> DAVIS 93 TIL DECK | L29: =VLOOKUP($B29,'sku master'!B:H,7,0) -> 8.25" X 31.875" | M29: {=INDEX('sku master'!$C$1:$C$705,MATCH($F29,'sku master'!$E$1:$E$705,0))} -> GIRL | N29: =VLOOKUP(VLOOKUP($B29,'sku master'!B:D,3,0),merch,2,0) -> DECKS | X29: =SUM(O29:W29) -> 0 | Y29: 10000 | Z29: =Y29*X29 -> 0 | AC29: =IF(OR(G29="",Z29>0),IF($B$1="form codes:",C29,#REF!&IF(E29="*"," US","")),"")
B30: =F30&I30 -> GB5206G096 | C30: X | F30: GB5206 | G30: =PROPER(K30) -> Davis 93 Til Deck | I30: G096 | J30: =LEFT(L30,SEARCH(" ",L30)-1)&IF(ISERROR(VLOOKUP(I30,shapes,3,0)),""," "&VLOOKUP(I30,shapes,3,0)) -> 8.5" | K30: =VLOOKUP($B30,'sku master'!B:H,5,0) -> DAVIS 93 TIL DECK | L30: =VLOOKUP($B30,'sku master'!B:H,7,0) -> 8.5" X 31.875" | M30: {=INDEX('sku master'!$C$1:$C$705,MATCH($F30,'sku master'!$E$1:$E$705,0))} -> GIRL | N30: =VLOOKUP(VLOOKUP($B30,'sku master'!B:D,3,0),merch,2,0) -> DECKS | X30: =SUM(O30:W30) -> 0 | Y30: 10000 | Z30: =Y30*X30 -> 0 | AC30: =IF(OR(G30="",Z30>0),IF($B$1="form codes:",C30,#REF!&IF(E30="*"," US","")),"")
B31: =F31&I31 -> GB5207G023 | C31: X | F31: GB5207 | G31: =PROPER(K31) -> Kennedy 93 Til Deck | I31: G023 | J31: =LEFT(L31,SEARCH(" ",L31)-1)&IF(ISERROR(VLOOKUP(I31,shapes,3,0)),""," "&VLOOKUP(I31,shapes,3,0)) -> 8.125" | K31: =VLOOKUP($B31,'sku master'!B:H,5,0) -> KENNEDY 93 TIL DECK | L31: =VLOOKUP($B31,'sku master'!B:H,7,0) -> 8.125" X 31.625" | M31: {=INDEX('sku master'!$C$1:$C$705,MATCH($F31,'sku master'!$E$1:$E$705,0))} -> GIRL | N31: =VLOOKUP(VLOOKUP($B31,'sku master'!B:D,3,0),merch,2,0) -> DECKS | X31: =SUM(O31:W31) -> 0 | Y31: 10000 | Z31: =Y31*X31 -> 0 | AC31: =IF(OR(G31="",Z31>0),IF($B$1="form codes:",C31,#REF!&IF(E31="*"," US","")),"")
B32: =F32&I32 -> GB5207G039 | C32: X | F32: GB5207 | G32: =PROPER(K32) -> Kennedy 93 Til Deck | I32: G039 | J32: =LEFT(L32,SEARCH(" ",L32)-1)&IF(ISERROR(VLOOKUP(I32,shapes,3,0)),""," "&VLOOKUP(I32,shapes,3,0)) -> 8.5" | K32: =VLOOKUP($B32,'sku master'!B:H,5,0) -> KENNEDY 93 TIL DECK | L32: =VLOOKUP($B32,'sku master'!B:H,7,0) -> 8.5" X 31.75" | M32: {=INDEX('sku master'!$C$1:$C$705,MATCH($F32,'sku master'!$E$1:$E$705,0))} -> GIRL | N32: =VLOOKUP(VLOOKUP($B32,'sku master'!B:D,3,0),merch,2,0) -> DECKS | X32: =SUM(O32:W32) -> 0 | Y32: 10000 | Z32: =Y32*X32 -> 0 | AC32: =IF(OR(G32="",Z32>0),IF($B$1="form codes:",C32,#REF!&IF(E32="*"," US","")),"")
B33: =F33&I33 -> GB5208G018 | C33: X | F33: GB5208 | G33: =PROPER(K33) -> Lil Dre 93 Til Deck | I33: G018 | J33: =LEFT(L33,SEARCH(" ",L33)-1)&IF(ISERROR(VLOOKUP(I33,shapes,3,0)),""," "&VLOOKUP(I33,shapes,3,0)) -> 8" | K33: =VLOOKUP($B33,'sku master'!B:H,5,0) -> LIL DRE 93 TIL DECK | L33: =VLOOKUP($B33,'sku master'!B:H,7,0) -> 8" X 31.5" | M33: {=INDEX('sku master'!$C$1:$C$705,MATCH($F33,'sku master'!$E$1:$E$705,0))} -> GIRL | N33: =VLOOKUP(VLOOKUP($B33,'sku master'!B:D,3,0),merch,2,0) -> DECKS | X33: =SUM(O33:W33) -> 0 | Y33: 10000 | Z33: =Y33*X33 -> 0 | AC33: =IF(OR(G33="",Z33>0),IF($B$1="form codes:",C33,#REF!&IF(E33="*"," US","")),"")
B34: =F34&I34 -> GB5208G069 | C34: X | F34: GB5208 | G34: =PROPER(K34) -> Lil Dre 93 Til Deck | I34: G069 | J34: =LEFT(L34,SEARCH(" ",L34)-1)&IF(ISERROR(VLOOKUP(I34,shapes,3,0)),""," "&VLOOKUP(I34,shapes,3,0)) -> 8.25" | K34: =VLOOKUP($B34,'sku master'!B:H,5,0) -> LIL DRE 93 TIL DECK | L34: =VLOOKUP($B34,'sku master'!B:H,7,0) -> 8.25" X 31.875" | M34: {=INDEX('sku master'!$C$1:$C$705,MATCH($F34,'sku master'!$E$1:$E$705,0))} -> GIRL | N34: =VLOOKUP(VLOOKUP($B34,'sku master'!B:D,3,0),merch,2,0) -> DECKS | X34: =SUM(O34:W34) -> 0 | Y34: 10000 | Z34: =Y34*X34 -> 0 | AC34: =IF(OR(G34="",Z34>0),IF($B$1="form codes:",C34,#REF!&IF(E34="*"," US","")),"")
B35: =F35&I35 -> GB5209G016 | C35: X | F35: GB5209 | G35: =PROPER(K35) -> Brophy 93 Til Deck | I35: G016 | J35: =LEFT(L35,SEARCH(" ",L35)-1)&IF(ISERROR(VLOOKUP(I35,shapes,3,0)),""," "&VLOOKUP(I35,shapes,3,0)) -> 8.375" | K35: =VLOOKUP($B35,'sku master'!B:H,5,0) -> BROPHY 93 TIL DECK | L35: =VLOOKUP($B35,'sku master'!B:H,7,0) -> 8.375" X 31.75" | M35: {=INDEX('sku master'!$C$1:$C$705,MATCH($F35,'sku master'!$E$1:$E$705,0))} -> GIRL | N35: =VLOOKUP(VLOOKUP($B35,'sku master'!B:D,3,0),merch,2,0) -> DECKS | X35: =SUM(O35:W35) -> 0 | Y35: 10000 | Z35: =Y35*X35 -> 0 | AC35: =IF(OR(G35="",Z35>0),IF($B$1="form codes:",C35,#REF!&IF(E35="*"," US","")),"")
B36: =F36&I36 -> GB5209G068 | C36: X | F36: GB5209 | G36: =PROPER(K36) -> Brophy 93 Til Deck | I36: G068 | J36: =LEFT(L36,SEARCH(" ",L36)-1)&IF(ISERROR(VLOOKUP(I36,shapes,3,0)),""," "&VLOOKUP(I36,shapes,3,0)) -> 8.8" | K36: =VLOOKUP($B36,'sku master'!B:H,5,0) -> BROPHY 93 TIL DECK | L36: =VLOOKUP($B36,'sku master'!B:H,7,0) -> 8.8" X 32.625" | M36: {=INDEX('sku master'!$C$1:$C$705,MATCH($F36,'sku master'!$E$1:$E$705,0))} -> GIRL | N36: =VLOOKUP(VLOOKUP($B36,'sku master'!B:D,3,0),merch,2,0) -> DECKS | X36: =SUM(O36:W36) -> 0 | Y36: 10000 | Z36: =Y36*X36 -> 0 | AC36: =IF(OR(G36="",Z36>0),IF($B$1="form codes:",C36,#REF!&IF(E36="*"," US","")),"")
B37: =F37&I37 | D37: X | AC37: =IF(OR(G37="",Z37>0),IF($B$1="form codes:",D37,C37&IF(E37="*"," US","")),"") -> X
B38: =B28&" Softgoods" -> Girl : 93 TIL "Stripes" Collection Softgoods | D38: X | F38: =B38 -> Girl : 93 TIL "Stripes" Collection Softgoods | O38: S | P38: M | Q38: L | R38: XL | S38: XXL | AC38: =IF(OR(G38="",Z38>0),IF($B$1="form codes:",D38,C38&IF(E38="*"," US","")),"") -> X
B39: =F39&I39 -> GSW127111001 | D39: X | E39: * | F39: GSW127111 | G39: OG 93 Til Stripes Hoody | I39: 001 | J39: =PROPER(L39) -> Black | K39: =VLOOKUP($B39,'sku master'!B:H,5,0) -> OG 93 TIL STRIPES HOODY | L39: =VLOOKUP($B39,'sku master'!B:H,7,0) -> BLACK | M39: {=INDEX('sku master'!$C$1:$C$705,MATCH($F39,'sku master'!$E$1:$E$705,0))} -> GIRL | N39: =VLOOKUP(VLOOKUP($B39,'sku master'!B:D,3,0),merch,2,0) -> SOFTGOODS | X39: =SUM(O39:W39) -> 0 | Y39: 15000 | Z39: =Y39*X39 -> 0 | AC39: =IF(OR(G39="",Z39>0),IF($B$1="form codes:",D39,C39&IF(E39="*"," US","")),"")
B40: =F40&I40 -> GSW127111010 | D40: X | E40: * | F40: GSW127111 | G40: OG 93 Til Stripes Hoody | I40: 010 | J40: =PROPER(L40) -> Grey Heather | K40: =VLOOKUP($B40,'sku master'!B:H,5,0) -> OG 93 TIL STRIPES HOODY | L40: =VLOOKUP($B40,'sku master'!B:H,7,0) -> GREY HEATHER | M40: {=INDEX('sku master'!$C$1:$C$705,MATCH($F40,'sku master'!$E$1:$E$705,0))} -> GIRL | N40: =VLOOKUP(VLOOKUP($B40,'sku master'!B:D,3,0),merch,2,0) -> SOFTGOODS | X40: =SUM(O40:W40) -> 0 | Y40: 15000 | Z40: =Y40*X40 -> 0 | AC40: =IF(OR(G40="",Z40>0),IF($B$1="form codes:",D40,C40&IF(E40="*"," US","")),"")
B41: =F41&I41 -> GTS127101001 | D41: X | E41: * | F41: GTS127101 | G41: OG 93 Til Stripes Tee | I41: 001 | J41: =PROPER(L41) -> Black | K41: =VLOOKUP($B41,'sku master'!B:H,5,0) -> OG 93 TIL STRIPES TEE | L41: =VLOOKUP($B41,'sku master'!B:H,7,0) -> BLACK | M41: {=INDEX('sku master'!$C$1:$C$705,MATCH($F41,'sku master'!$E$1:$E$705,0))} -> GIRL | N41: =VLOOKUP(VLOOKUP($B41,'sku master'!B:D,3,0),merch,2,0) -> SOFTGOODS | X41: =SUM(O41:W41) -> 0 | Y41: 4800 | Z41: =Y41*X41 -> 0 | AC41: =IF(OR(G41="",Z41>0),IF($B$1="form codes:",D41,C41&IF(E41="*"," US","")),"")
B42: =F42&I42 -> GTS127101002 | D42: X | E42: * | F42: GTS127101 | G42: OG 93 Til Stripes Tee | I42: 002 | J42: =PROPER(L42) -> White | K42: =VLOOKUP($B42,'sku master'!B:H,5,0) -> OG 93 TIL STRIPES TEE | L42: =VLOOKUP($B42,'sku master'!B:H,7,0) -> WHITE | M42: {=INDEX('sku master'!$C$1:$C$705,MATCH($F42,'sku master'!$E$1:$E$705,0))} -> GIRL | N42: =VLOOKUP(VLOOKUP($B42,'sku master'!B:D,3,0),merch,2,0) -> SOFTGOODS | X42: =SUM(O42:W42) -> 0 | Y42: 4800 | Z42: =Y42*X42 -> 0 | AC42: =IF(OR(G42="",Z42>0),IF($B$1="form codes:",D42,C42&IF(E42="*"," US","")),"")
B43: =F43&I43 -> GTS127101010 | D43: X | E43: * | F43: GTS127101 | G43: OG 93 Til Stripes Tee | I43: 010 | J43: =PROPER(L43) -> Grey Heather | K43: =VLOOKUP($B43,'sku master'!B:H,5,0) -> OG 93 TIL STRIPES TEE | L43: =VLOOKUP($B43,'sku master'!B:H,7,0) -> GREY HEATHER | M43: {=INDEX('sku master'!$C$1:$C$705,MATCH($F43,'sku master'!$E$1:$E$705,0))} -> GIRL | N43: =VLOOKUP(VLOOKUP($B43,'sku master'!B:D,3,0),merch,2,0) -> SOFTGOODS | X43: =SUM(O43:W43) -> 0 | Y43: 4800 | Z43: =Y43*X43 -> 0 | AC43: =IF(OR(G43="",Z43>0),IF($B$1="form codes:",D43,C43&IF(E43="*"," US","")),"")
B44: =F44&I44 | D44: X | AC44: =IF(OR(G44="",Z44>0),IF($B$1="form codes:",D44,C44&IF(E44="*"," US","")),"") -> X
B45: Girl: One Offs Collection | C45: X | F45: =B45 -> Girl: One Offs Collection | O45: Qty | AC45: =IF(OR(G45="",Z45>0),IF($B$1="form codes:",C45,#REF!&IF(E45="*"," US","")),"") -> X
B46: =F46&I46 -> GB5210G008 | C46: X | F46: GB5210 | G46: =PROPER(K46) -> Bennett N Is For Niels Deck | I46: G008 | J46: =LEFT(L46,SEARCH(" ",L46)-1)&IF(ISERROR(VLOOKUP(I46,shapes,3,0)),""," "&VLOOKUP(I46,shapes,3,0)) -> 8" | K46: =VLOOKUP($B46,'sku master'!B:H,5,0) -> BENNETT N IS FOR NIELS DECK | L46: =VLOOKUP($B46,'sku master'!B:H,7,0) -> 8" X 31.875" | M46: {=INDEX('sku master'!$C$1:$C$705,MATCH($F46,'sku master'!$E$1:$E$705,0))} -> GIRL | N46: =VLOOKUP(VLOOKUP($B46,'sku master'!B:D,3,0),merch,2,0) -> DECKS | X46: =SUM(O46:W46) -> 0 | Y46: 10000 | Z46: =Y46*X46 -> 0 | AC46: =IF(OR(G46="",Z46>0),IF($B$1="form codes:",C46,#REF!&IF(E46="*"," US","")),"")
B47: =F47&I47 -> GB5210G027 | C47: X | F47: GB5210 | G47: =PROPER(K47) -> Bennett N Is For Niels Deck | I47: G027 | J47: =LEFT(L47,SEARCH(" ",L47)-1)&IF(ISERROR(VLOOKUP(I47,shapes,3,0)),""," "&VLOOKUP(I47,shapes,3,0)) -> 8.25" | K47: =VLOOKUP($B47,'sku master'!B:H,5,0) -> BENNETT N IS FOR NIELS DECK | L47: =VLOOKUP($B47,'sku master'!B:H,7,0) -> 8.25" X 31.75" | M47: {=INDEX('sku master'!$C$1:$C$705,MATCH($F47,'sku master'!$E$1:$E$705,0))} -> GIRL | N47: =VLOOKUP(VLOOKUP($B47,'sku master'!B:D,3,0),merch,2,0) -> DECKS | X47: =SUM(O47:W47) -> 0 | Y47: 10000 | Z47: =Y47*X47 -> 0 | AC47: =IF(OR(G47="",Z47>0),IF($B$1="form codes:",C47,#REF!&IF(E47="*"," US","")),"")
B48: =F48&I48 -> GB5211G028 | C48: X | F48: GB5211 | G48: =PROPER(K48) -> Bannerot Ribbit Deck | I48: G028 | J48: =LEFT(L48,SEARCH(" ",L48)-1)&IF(ISERROR(VLOOKUP(I48,shapes,3,0)),""," "&VLOOKUP(I48,shapes,3,0)) -> 8.1875" | K48: =VLOOKUP($B48,'sku master'!B:H,5,0) -> BANNEROT RIBBIT DECK | L48: =VLOOKUP($B48,'sku master'!B:H,7,0) -> 8.1875" X 31.5" | M48: {=INDEX('sku master'!$C$1:$C$705,MATCH($F48,'sku master'!$E$1:$E$705,0))} -> GIRL | N48: =VLOOKUP(VLOOKUP($B48,'sku master'!B:D,3,0),merch,2,0) -> DECKS | X48: =SUM(O48:W48) -> 0 | Y48: 10000 | Z48: =Y48*X48 -> 0 | AC48: =IF(OR(G48="",Z48>0),IF($B$1="form codes:",C48,#REF!&IF(E48="*"," US","")),"")
B49: =F49&I49 -> GB5211G033 | C49: X | F49: GB5211 | G49: =PROPER(K49) -> Bannerot Ribbit Deck | I49: G033 | J49: =LEFT(L49,SEARCH(" ",L49)-1)&IF(ISERROR(VLOOKUP(I49,shapes,3,0)),""," "&VLOOKUP(I49,shapes,3,0)) -> 8.5" | K49: =VLOOKUP($B49,'sku master'!B:H,5,0) -> BANNEROT RIBBIT DECK | L49: =VLOOKUP($B49,'sku master'!B:H,7,0) -> 8.5" X 32" | M49: {=INDEX('sku master'!$C$1:$C$705,MATCH($F49,'sku master'!$E$1:$E$705,0))} -> GIRL | N49: =VLOOKUP(VLOOKUP($B49,'sku master'!B:D,3,0),merch,2,0) -> DECKS | X49: =SUM(O49:W49) -> 0 | Y49: 10000 | Z49: =Y49*X49 -> 0 | AC49: =IF(OR(G49="",Z49>0),IF($B$1="form codes:",C49,#REF!&IF(E49="*"," US","")),"")
B50: =F50&I50 -> GB5212G011 | C50: X | F50: GB5212 | G50: =PROPER(K50) -> Malto Dual Directional Deck | I50: G011 | J50: =LEFT(L50,SEARCH(" ",L50)-1)&IF(ISERROR(VLOOKUP(I50,shapes,3,0)),""," "&VLOOKUP(I50,shapes,3,0)) -> 8.3" | K50: =VLOOKUP($B50,'sku master'!B:H,5,0) -> MALTO DUAL DIRECTIONAL DECK | L50: =VLOOKUP($B50,'sku master'!B:H,7,0) -> 8.3" X 31.875" | M50: {=INDEX('sku master'!$C$1:$C$705,MATCH($F50,'sku master'!$E$1:$E$705,0))} -> GIRL | N50: =VLOOKUP(VLOOKUP($B50,'sku master'!B:D,3,0),merch,2,0) -> DECKS | X50: =SUM(O50:W50) -> 0 | Y50: 10000 | Z50: =Y50*X50 -> 0 | AC50: =IF(OR(G50="",Z50>0),IF($B$1="form codes:",C50,#REF!&IF(E50="*"," US","")),"")
B51: =F51&I51 -> GB5212G096 | C51: X | F51: GB5212 | G51: =PROPER(K51) -> Malto Dual Directional Deck | I51: G096 | J51: =LEFT(L51,SEARCH(" ",L51)-1)&IF(ISERROR(VLOOKUP(I51,shapes,3,0)),""," "&VLOOKUP(I51,shapes,3,0)) -> 8.5" | K51: =VLOOKUP($B51,'sku master'!B:H,5,0) -> MALTO DUAL DIRECTIONAL DECK | L51: =VLOOKUP($B51,'sku master'!B:H,7,0) -> 8.5" X 31.875" | M51: {=INDEX('sku master'!$C$1:$C$705,MATCH($F51,'sku master'!$E$1:$E$705,0))} -> GIRL | N51: =VLOOKUP(VLOOKUP($B51,'sku master'!B:D,3,0),merch,2,0) -> DECKS | X51: =SUM(O51:W51) -> 0 | Y51: 10000 | Z51: =Y51*X51 -> 0 | AC51: =IF(OR(G51="",Z51>0),IF($B$1="form codes:",C51,#REF!&IF(E51="*"," US","")),"")
B52: =F52&I52 -> GB5213G069 | C52: X | F52: GB5213 | G52: =PROPER(K52) -> Mccrank Dual Directional Deck | I52: G069 | J52: =LEFT(L52,SEARCH(" ",L52)-1)&IF(ISERROR(VLOOKUP(I52,shapes,3,0)),""," "&VLOOKUP(I52,shapes,3,0)) -> 8.25" | K52: =VLOOKUP($B52,'sku master'!B:H,5,0) -> MCCRANK DUAL DIRECTIONAL DECK | L52: =VLOOKUP($B52,'sku master'!B:H,7,0) -> 8.25" X 31.875" | M52: {=INDEX('sku master'!$C$1:$C$705,MATCH($F52,'sku master'!$E$1:$E$705,0))} -> GIRL | N52: =VLOOKUP(VLOOKUP($B52,'sku master'!B:D,3,0),merch,2,0) -> DECKS | X52: =SUM(O52:W52) -> 0 | Y52: 10000 | Z52: =Y52*X52 -> 0 | AC52: =IF(OR(G52="",Z52>0),IF($B$1="form codes:",C52,#REF!&IF(E52="*"," US","")),"")
B53: =F53&I53 -> GB5213G080 | C53: X | F53: GB5213 | G53: =PROPER(K53) -> Mccrank Dual Directional Deck | I53: G080 | J53: =LEFT(L53,SEARCH(" ",L53)-1)&IF(ISERROR(VLOOKUP(I53,shapes,3,0)),""," "&VLOOKUP(I53,shapes,3,0)) -> 8" | K53: =VLOOKUP($B53,'sku master'!B:H,5,0) -> MCCRANK DUAL DIRECTIONAL DECK | L53: =VLOOKUP($B53,'sku master'!B:H,7,0) -> 8" X 31.88" | M53: {=INDEX('sku master'!$C$1:$C$705,MATCH($F53,'sku master'!$E$1:$E$705,0))} -> GIRL | N53: =VLOOKUP(VLOOKUP($B53,'sku master'!B:D,3,0),merch,2,0) -> DECKS | X53: =SUM(O53:W53) -> 0 | Y53: 10000 | Z53: =Y53*X53 -> 0 | AC53: =IF(OR(G53="",Z53>0),IF($B$1="form codes:",C53,#REF!&IF(E53="*"," US","")),"")
B54: =F54&I54 | C54: X | AC54: =IF(OR(G54="",Z54>0),IF($B$1="form codes:",C54,#REF!&IF(E54="*"," US","")),"") -> X
B55: Girl: Films Collection | C55: X | F55: =B55 -> Girl: Films Collection | O55: Qty | AC55: =IF(OR(G55="",Z55>0),IF($B$1="form codes:",C55,#REF!&IF(E55="*"," US","")),"") -> X
B56: =F56&I56 -> GB5178G028 | C56: X | F56: GB5178 | G56: =PROPER(K56) -> Goldfish Deck | I56: G028 | J56: =LEFT(L56,SEARCH(" ",L56)-1)&IF(ISERROR(VLOOKUP(I56,shapes,3,0)),""," "&VLOOKUP(I56,shapes,3,0)) -> 8.1875" | K56: =VLOOKUP($B56,'sku master'!B:H,5,0) -> GOLDFISH DECK | L56: =VLOOKUP($B56,'sku master'!B:H,7,0) -> 8.1875" X 31.5" | M56: {=INDEX('sku master'!$C$1:$C$705,MATCH($F56,'sku master'!$E$1:$E$705,0))} -> GIRL | N56: =VLOOKUP(VLOOKUP($B56,'sku master'!B:D,3,0),merch,2,0) -> DECKS | X56: =SUM(O56:W56) -> 0 | Y56: 10000 | Z56: =Y56*X56 -> 0 | AC56: =IF(OR(G56="",Z56>0),IF($B$1="form codes:",C56,#REF!&IF(E56="*"," US","")),"")
B57: =F57&I57 -> GB5178G052 | C57: X | F57: GB5178 | G57: =PROPER(K57) -> Goldfish Deck | I57: G052 | J57: =LEFT(L57,SEARCH(" ",L57)-1)&IF(ISERROR(VLOOKUP(I57,shapes,3,0)),""," "&VLOOKUP(I57,shapes,3,0)) -> 8.25" | K57: =VLOOKUP($B57,'sku master'!B:H,5,0) -> GOLDFISH DECK | L57: =VLOOKUP($B57,'sku master'!B:H,7,0) -> 8.25" X 31.875" | M57: {=INDEX('sku master'!$C$1:$C$705,MATCH($F57,'sku master'!$E$1:$E$705,0))} -> GIRL | N57: =VLOOKUP(VLOOKUP($B57,'sku master'!B:D,3,0),merch,2,0) -> DECKS | X57: =SUM(O57:W57) -> 0 | Y57: 10000 | Z57: =Y57*X57 -> 0 | AC57: =IF(OR(G57="",Z57>0),IF($B$1="form codes:",C57,#REF!&IF(E57="*"," US","")),"")
B58: =F58&I58 -> GB5179G024 | C58: X | F58: GB5179 | G58: =PROPER(K58) -> Mouse Scooter Deck | I58: G024 | J58: =LEFT(L58,SEARCH(" ",L58)-1)&IF(ISERROR(VLOOKUP(I58,shapes,3,0)),""," "&VLOOKUP(I58,shapes,3,0)) -> 8.375" | K58: =VLOOKUP($B58,'sku master'!B:H,5,0) -> MOUSE SCOOTER DECK | L58: =VLOOKUP($B58,'sku master'!B:H,7,0) -> 8.375" X 31.625" | M58: {=INDEX('sku master'!$C$1:$C$705,MATCH($F58,'sku master'!$E$1:$E$705,0))} -> GIRL | N58: =VLOOKUP(VLOOKUP($B58,'sku master'!B:D,3,0),merch,2,0) -> DECKS | X58: =SUM(O58:W58) -> 0 | Y58: 10000 | Z58: =Y58*X58 -> 0 | AC58: =IF(OR(G58="",Z58>0),IF($B$1="form codes:",C58,#REF!&IF(E58="*"," US","")),"")
B59: =F59&I59 -> GB5179G096 | C59: X | F59: GB5179 | G59: =PROPER(K59) -> Mouse Scooter Deck | I59: G096 | J59: =LEFT(L59,SEARCH(" ",L59)-1)&IF(ISERROR(VLOOKUP(I59,shapes,3,0)),""," "&VLOOKUP(I59,shapes,3,0)) -> 8.5" | K59: =VLOOKUP($B59,'sku master'!B:H,5,0) -> MOUSE SCOOTER DECK | L59: =VLOOKUP($B59,'sku master'!B:H,7,0) -> 8.5" X 31.875" | M59: {=INDEX('sku master'!$C$1:$C$705,MATCH($F59,'sku master'!$E$1:$E$705,0))} -> GIRL | N59: =VLOOKUP(VLOOKUP($B59,'sku master'!B:D,3,0),merch,2,0) -> DECKS | X59: =SUM(O59:W59) -> 0 | Y59: 10000 | Z59: =Y59*X59 -> 0 | AC59: =IF(OR(G59="",Z59>0),IF($B$1="form codes:",C59,#REF!&IF(E59="*"," US","")),"")
B60: =F60&I60 -> GB4973G008 | C60: X | F60: GB4973 | G60: =PROPER(K60) -> Girl Yeah Right Deck | I60: G008 | J60: =LEFT(L60,SEARCH(" ",L60)-1)&IF(ISERROR(VLOOKUP(I60,shapes,3,0)),""," "&VLOOKUP(I60,shapes,3,0)) -> 8" | K60: =VLOOKUP($B60,'sku master'!B:H,5,0) -> GIRL YEAH RIGHT DECK | L60: =VLOOKUP($B60,'sku master'!B:H,7,0) -> 8" X 31.875" | M60: {=INDEX('sku master'!$C$1:$C$705,MATCH($F60,'sku master'!$E$1:$E$705,0))} -> GIRL | N60: =VLOOKUP(VLOOKUP($B60,'sku master'!B:D,3,0),merch,2,0) -> DECKS | X60: =SUM(O60:W60) -> 0 | Y60: 11500 | Z60: =Y60*X60 -> 0 | AC60: =IF(OR(G60="",Z60>0),IF($B$1="form codes:",C60,#REF!&IF(E60="*"," US","")),"")
B61: =F61&I61 -> GB4973G052 | C61: X | F61: GB4973 | G61: =PROPER(K61) -> Girl Yeah Right Deck | I61: G052 | J61: =LEFT(L61,SEARCH(" ",L61)-1)&IF(ISERROR(VLOOKUP(I61,shapes,3,0)),""," "&VLOOKUP(I61,shapes,3,0)) -> 8.25" | K61: =VLOOKUP($B61,'sku master'!B:H,5,0) -> GIRL YEAH RIGHT DECK | L61: =VLOOKUP($B61,'sku master'!B:H,7,0) -> 8.25" X 31.875" | M61: {=INDEX('sku master'!$C$1:$C$705,MATCH($F61,'sku master'!$E$1:$E$705,0))} -> GIRL | N61: =VLOOKUP(VLOOKUP($B61,'sku master'!B:D,3,0),merch,2,0) -> DECKS | X61: =SUM(O61:W61) -> 0 | Y61: 11500 | Z61: =Y61*X61 -> 0 | AC61: =IF(OR(G61="",Z61>0),IF($B$1="form codes:",C61,#REF!&IF(E61="*"," US","")),"")
B62: =F62&I62 | C62: X | AC62: =IF(OR(G62="",Z62>0),IF($B$1="form codes:",C62,#REF!&IF(E62="*"," US","")),"") -> X
B63: Girl: Completes | C63: X | F63: =B63 -> Girl: Completes | O63: Qty | AC63: =IF(OR(G63="",Z63>0),IF($B$1="form codes:",C63,#REF!&IF(E63="*"," US","")),"") -> X
B64: =F64&I64 -> GC5201G077 | C64: X | F64: GC5201 | G64: =PROPER(K64) -> Pacheco Blammo Complete | I64: G077 | J64: =LEFT(L64,SEARCH(" ",L64)-1)&IF(ISERROR(VLOOKUP(I64,shapes,3,0)),""," "&VLOOKUP(I64,shapes,3,0)) -> 7.3" | K64: =VLOOKUP($B64,'sku master'!B:H,5,0) -> PACHECO BLAMMO COMPLETE | L64: =VLOOKUP($B64,'sku master'!B:H,7,0) -> 7.3" X 28" | M64: {=INDEX('sku master'!$C$1:$C$705,MATCH($F64,'sku master'!$E$1:$E$705,0))} -> GIRL | N64: =VLOOKUP(VLOOKUP($B64,'sku master'!B:D,3,0),merch,2,0) -> COMPLETES | X64: =SUM(O64:W64) -> 0 | Y64: 20000 | Z64: =Y64*X64 -> 0 | AC64: =IF(OR(G64="",Z64>0),IF($B$1="form codes:",C64,#REF!&IF(E64="*"," US","")),"")
B65: =F65&I65 -> GC5201G080 | C65: X | F65: GC5201 | G65: =PROPER(K65) -> Pacheco Blammo Complete | I65: G080 | J65: =LEFT(L65,SEARCH(" ",L65)-1)&IF(ISERROR(VLOOKUP(I65,shapes,3,0)),""," "&VLOOKUP(I65,shapes,3,0)) -> 8" | K65: =VLOOKUP($B65,'sku master'!B:H,5,0) -> PACHECO BLAMMO COMPLETE | L65: =VLOOKUP($B65,'sku master'!B:H,7,0) -> 8" X 31.88" | M65: {=INDEX('sku master'!$C$1:$C$705,MATCH($F65,'sku master'!$E$1:$E$705,0))} -> GIRL | N65: =VLOOKUP(VLOOKUP($B65,'sku master'!B:D,3,0),merch,2,0) -> COMPLETES | X65: =SUM(O65:W65) -> 0 | Y65: 20000 | Z65: =Y65*X65 -> 0 | AC65: =IF(OR(G65="",Z65>0),IF($B$1="form codes:",C65,#REF!&IF(E65="*"," US","")),"")
B66: =F66&I66 -> GC5202G004 | C66: X | F66: GC5202 | G66: =PROPER(K66) -> Bennett N Is For Niels Complet | I66: G004 | J66: =LEFT(L66,SEARCH(" ",L66)-1)&IF(ISERROR(VLOOKUP(I66,shapes,3,0)),""," "&VLOOKUP(I66,shapes,3,0)) -> 7.5" | K66: =VLOOKUP($B66,'sku master'!B:H,5,0) -> BENNETT N IS FOR NIELS COMPLET | L66: =VLOOKUP($B66,'sku master'!B:H,7,0) -> 7.5" X 28.65" | M66: {=INDEX('sku master'!$C$1:$C$705,MATCH($F66,'sku master'!$E$1:$E$705,0))} -> GIRL | N66: =VLOOKUP(VLOOKUP($B66,'sku master'!B:D,3,0),merch,2,0) -> COMPLETES | X66: =SUM(O66:W66) -> 0 | Y66: 20000 | Z66: =Y66*X66 -> 0 | AC66: =IF(OR(G66="",Z66>0),IF($B$1="form codes:",C66,#REF!&IF(E66="*"," US","")),"")
B67: =F67&I67 -> GC5202G007 | C67: X | F67: GC5202 | G67: =PROPER(K67) -> Bennett N Is For Niels Complet | I67: G007 | J67: =LEFT(L67,SEARCH(" ",L67)-1)&IF(ISERROR(VLOOKUP(I67,shapes,3,0)),""," "&VLOOKUP(I67,shapes,3,0)) -> 7.0" | K67: =VLOOKUP($B67,'sku master'!B:H,5,0) -> BENNETT N IS FOR NIELS COMPLET | L67: =VLOOKUP($B67,'sku master'!B:H,7,0) -> 7.0" X 28" | M67: {=INDEX('sku master'!$C$1:$C$705,MATCH($F67,'sku master'!$E$1:$E$705,0))} -> GIRL | N67: =VLOOKUP(VLOOKUP($B67,'sku master'!B:D,3,0),merch,2,0) -> COMPLETES | X67: =SUM(O67:W67) -> 0 | Y67: 20000 | Z67: =Y67*X67 -> 0 | AC67: =IF(OR(G67="",Z67>0),IF($B$1="form codes:",C67,#REF!&IF(E67="*"," US","")),"")
B68: =F68&I68 -> GC5203G004 | C68: X | F68: GC5203 | G68: =PROPER(K68) -> Lil Dre 93 Til Stripe Complete | I68: G004 | J68: =LEFT(L68,SEARCH(" ",L68)-1)&IF(ISERROR(VLOOKUP(I68,shapes,3,0)),""," "&VLOOKUP(I68,shapes,3,0)) -> 7.5" | K68: =VLOOKUP($B68,'sku master'!B:H,5,0) -> LIL DRE 93 TIL STRIPE COMPLETE | L68: =VLOOKUP($B68,'sku master'!B:H,7,0) -> 7.5" X 28.65" | M68: {=INDEX('sku master'!$C$1:$C$705,MATCH($F68,'sku master'!$E$1:$E$705,0))} -> GIRL | N68: =VLOOKUP(VLOOKUP($B68,'sku master'!B:D,3,0),merch,2,0) -> COMPLETES | X68: =SUM(O68:W68) -> 0 | Y68: 20000 | Z68: =Y68*X68 -> 0 | AC68: =IF(OR(G68="",Z68>0),IF($B$1="form codes:",C68,#REF!&IF(E68="*"," US","")),"")
B69: =F69&I69 -> GC5203G080 | C69: X | F69: GC5203 | G69: =PROPER(K69) -> Lil Dre 93 Til Stripe Complete | I69: G080 | J69: =LEFT(L69,SEARCH(" ",L69)-1)&IF(ISERROR(VLOOKUP(I69,shapes,3,0)),""," "&VLOOKUP(I69,shapes,3,0)) -> 8" | K69: =VLOOKUP($B69,'sku master'!B:H,5,0) -> LIL DRE 93 TIL STRIPE COMPLETE | L69: =VLOOKUP($B69,'sku master'!B:H,7,0) -> 8" X 31.88" | M69: {=INDEX('sku master'!$C$1:$C$705,MATCH($F69,'sku master'!$E$1:$E$705,0))} -> GIRL | N69: =VLOOKUP(VLOOKUP($B69,'sku master'!B:D,3,0),merch,2,0) -> COMPLETES | X69: =SUM(O69:W69) -> 0 | Y69: 20000 | Z69: =Y69*X69 -> 0 | AC69: =IF(OR(G69="",Z69>0),IF($B$1="form codes:",C69,#REF!&IF(E69="*"," US","")),"")
B70: =F70&I70 | D70: X | AC70: =IF(OR(G70="",Z70>0),IF($B$1="form codes:",D70,C70&IF(E70="*"," US","")),"") -> X
D71: X | F71: Girl: Classic OG Collection Softgoods | O71: S | P71: M | Q71: L | R71: XL | S71: XXL | AC71: =IF(OR(G71="",Z71>0),IF($B$1="form codes:",D71,C71&IF(E71="*"," US","")),"") -> X
B72: =F72&I72 -> GTS125125001 | D72: X | E72: * | F72: GTS125125 | G72: Girl Classic OG Tee | I72: 001 | J72: =PROPER(L72) -> Black | K72: =VLOOKUP($B72,'sku master'!B:H,5,0) -> GIRL CLASSIC OG TEE | L72: =VLOOKUP($B72,'sku master'!B:H,7,0) -> BLACK | M72: {=INDEX('sku master'!$C$1:$C$705,MATCH($F72,'sku master'!$E$1:$E$705,0))} -> GIRL | N72: =VLOOKUP(VLOOKUP($B72,'sku master'!B:D,3,0),merch,2,0) -> SOFTGOODS | X72: =SUM(O72:W72) -> 0 | Y72: 6000 | Z72: =Y72*X72 -> 0 | AC72: =IF(OR(G72="",Z72>0),IF($B$1="form codes:",D72,C72&IF(E72="*"," US","")),"")
B73: =F73&I73 -> GTS125125002 | D73: X | E73: * | F73: GTS125125 | G73: Girl Classic OG Tee | I73: 002 | J73: =PROPER(L73) -> White | K73: =VLOOKUP($B73,'sku master'!B:H,5,0) -> GIRL CLASSIC OG TEE | L73: =VLOOKUP($B73,'sku master'!B:H,7,0) -> WHITE | M73: {=INDEX('sku master'!$C$1:$C$705,MATCH($F73,'sku master'!$E$1:$E$705,0))} -> GIRL | N73: =VLOOKUP(VLOOKUP($B73,'sku master'!B:D,3,0),merch,2,0) -> SOFTGOODS | X73: =SUM(O73:W73) -> 0 | Y73: 6000 | Z73: =Y73*X73 -> 0 | AC73: =IF(OR(G73="",Z73>0),IF($B$1="form codes:",D73,C73&IF(E73="*"," US","")),"")
B74: =F74&I74 -> GTS125125811 | D74: X | E74: * | F74: GTS125125 | G74: Girl Classic OG Tee | I74: 811 | J74: =PROPER(L74) -> Ash Heather | K74: =VLOOKUP($B74,'sku master'!B:H,5,0) -> GIRL CLASSIC OG TEE | L74: =VLOOKUP($B74,'sku master'!B:H,7,0) -> ASH HEATHER | M74: {=INDEX('sku master'!$C$1:$C$705,MATCH($F74,'sku master'!$E$1:$E$705,0))} -> GIRL | N74: =VLOOKUP(VLOOKUP($B74,'sku master'!B:D,3,0),merch,2,0) -> SOFTGOODS | X74: =SUM(O74:W74) -> 0 | Y74: 6000 | Z74: =Y74*X74 -> 0 | AC74: =IF(OR(G74="",Z74>0),IF($B$1="form codes:",D74,C74&IF(E74="*"," US","")),"")
B75: =F75&I75 -> GTS125203002 | D75: X | E75: * | F75: GTS125203 | G75: Girl Classic L/S Tee | I75: 002 | J75: =PROPER(L75) -> White | K75: =VLOOKUP($B75,'sku master'!B:H,5,0) -> GIRL CLASSIC L/S TEE | L75: =VLOOKUP($B75,'sku master'!B:H,7,0) -> WHITE | M75: {=INDEX('sku master'!$C$1:$C$705,MATCH($F75,'sku master'!$E$1:$E$705,0))} -> GIRL | N75: =VLOOKUP(VLOOKUP($B75,'sku master'!B:D,3,0),merch,2,0) -> SOFTGOODS | X75: =SUM(O75:W75) -> 0 | Y75: 7000 | Z75: =Y75*X75 -> 0 | AC75: =IF(OR(G75="",Z75>0),IF($B$1="form codes:",D75,C75&IF(E75="*"," US","")),"")
B76: =F76&I76 -> GSW125105001 | D76: X | E76: * | F76: GSW125105 | G76: Girl Classic OG Hood | I76: 001 | J76: =PROPER(L76) -> Black | K76: =VLOOKUP($B76,'sku master'!B:H,5,0) -> GIRL CLASSIC OG HOOD | L76: =VLOOKUP($B76,'sku master'!B:H,7,0) -> BLACK | M76: {=INDEX('sku master'!$C$1:$C$705,MATCH($F76,'sku master'!$E$1:$E$705,0))} -> GIRL | N76: =VLOOKUP(VLOOKUP($B76,'sku master'!B:D,3,0),merch,2,0) -> SOFTGOODS | X76: =SUM(O76:W76) -> 0 | Y76: 14000 | Z76: =Y76*X76 -> 0 | AC76: =IF(OR(G76="",Z76>0),IF($B$1="form codes:",D76,C76&IF(E76="*"," US","")),"")
B77: =F77&I77 -> GSW125202001 | D77: X | E77: * | F77: GSW125202 | G77: Girl Classic OG Crew | I77: 001 | J77: =PROPER(L77) -> Black | K77: =VLOOKUP($B77,'sku master'!B:H,5,0) -> GIRL CLASSIC OG CREW | L77: =VLOOKUP($B77,'sku master'!B:H,7,0) -> BLACK | M77: {=INDEX('sku master'!$C$1:$C$705,MATCH($F77,'sku master'!$E$1:$E$705,0))} -> GIRL | N77: =VLOOKUP(VLOOKUP($B77,'sku master'!B:D,3,0),merch,2,0) -> SOFTGOODS | X77: =SUM(O77:W77) -> 0 | Y77: 12000 | Z77: =Y77*X77 -> 0 | AC77: =IF(OR(G77="",Z77>0),IF($B$1="form codes:",D77,C77&IF(E77="*"," US","")),"")
B78: =F78&I78 -> GH125201001 | D78: X | E78: * | F78: GH125201 | G78: Girl Classic OG Beanie | I78: 001 | J78: =PROPER(L78) -> Black | K78: =VLOOKUP($B78,'sku master'!B:H,5,0) -> GIRL CLASSIC OG BEANIE | L78: =VLOOKUP($B78,'sku master'!B:H,7,0) -> BLACK | M78: {=INDEX('sku master'!$C$1:$C$705,MATCH($F78,'sku master'!$E$1:$E$705,0))} -> GIRL | N78: =VLOOKUP(VLOOKUP($B78,'sku master'!B:D,3,0),merch,2,0) -> HATS | X78: =SUM(O78:W78) -> 0 | Y78: 6000 | Z78: =Y78*X78 -> 0 | AC78: =IF(OR(G78="",Z78>0),IF($B$1="form codes:",D78,C78&IF(E78="*"," US","")),"")
B79: =F79&I79 -> GH125110384 | D79: X | E79: * | F79: GH125110 | G79: Girl Classic OG Snapback | I79: 384 | J79: =PROPER(L79) -> Black/Grey | K79: =VLOOKUP($B79,'sku master'!B:H,5,0) -> GIRL CLASSIC OG SNAPBACK | L79: =VLOOKUP($B79,'sku master'!B:H,7,0) -> BLACK/GREY | M79: {=INDEX('sku master'!$C$1:$C$705,MATCH($F79,'sku master'!$E$1:$E$705,0))} -> GIRL | N79: =VLOOKUP(VLOOKUP($B79,'sku master'!B:D,3,0),merch,2,0) -> HATS | X79: =SUM(O79:W79) -> 0 | Y79: 7000 | Z79: =Y79*X79 -> 0 | AC79: =IF(OR(G79="",Z79>0),IF($B$1="form codes:",D79,C79&IF(E79="*"," US","")),"")
B80: =F80&I80 -> GH125111001 | D80: X | E80: * | F80: GH125111 | G80: Girl OG Classic Snapback | I80: 001 | J80: =PROPER(L80) -> Black | K80: =VLOOKUP($B80,'sku master'!B:H,5,0) -> GIRL OG CLASSIC SNAPBACK | L80: =VLOOKUP($B80,'sku master'!B:H,7,0) -> BLACK | M80: {=INDEX('sku master'!$C$1:$C$705,MATCH($F80,'sku master'!$E$1:$E$705,0))} -> GIRL | N80: =VLOOKUP(VLOOKUP($B80,'sku master'!B:D,3,0),merch,2,0) -> HATS | X80: =SUM(O80:W80) -> 0 | Y80: 7000 | Z80: =Y80*X80 -> 0 | AC80: =IF(OR(G80="",Z80>0),IF($B$1="form codes:",D80,C80&IF(E80="*"," US","")),"")
B81: =F81&I81 | D81: X | AC81: =IF(OR(G81="",Z81>0),IF($B$1="form codes:",D81,C81&IF(E81="*"," US","")),"") -> X
B82: Girl Wheels | D82: X | F82: =B82 -> Girl Wheels | O82: 51 | P82: 53 | Q82: 55 | AC82: Header
B83: =F83&I83 -> GW5211024 | D83: X | E83: * | F83: GW5211 | G83: =PROPER(K83) -> Girl Blammo Staple Wheel | I83: 024 | J83: =PROPER(L83) -> Assorted Colors | K83: =VLOOKUP($B83,'sku master'!B:H,5,0) -> GIRL BLAMMO STAPLE WHEEL | L83: =VLOOKUP($B83,'sku master'!B:H,7,0) -> ASSORTED COLORS | M83: {=INDEX('sku master'!$C$1:$C$705,MATCH($F83,'sku master'!$E$1:$E$705,0))} -> GIRL | N83: =VLOOKUP(VLOOKUP($B83,'sku master'!B:D,3,0),merch,2,0) -> WHEELS | X83: =SUM(O83:W83) -> 0 | Y83: 6000 | Z83: =Y83*X83 -> 0 | AC83: =IF(OR(G83="",Z83>0),IF($B$1="form codes:",D83,C83&IF(E83="*"," US","")),"")
B84: =F84&I84 | D84: X
B85: =F85&I85 | D85: X | AC85: =IF(OR(G85="",Z85>0),IF($B$1="form codes:",D85,C85&IF(E85="*"," US","")),"") -> X
B86: =F86&I86 -> Accessories | D86: X | F86: Accessories | X86: Total Units | Y86: Unit Price | Z86: Total Price | AC86: =IF(OR(G86="",Z86>0),IF($B$1="form codes:",D86,C86&IF(E86="*"," US","")),"") -> X
B87: =F87&I87 | D87: X | AC87: =IF(OR(G87="",Z87>0),IF($B$1="form codes:",D87,C87&IF(E87="*"," US","")),"") -> X
B88: Girl Accessories | D88: X | F88: ="Girl "&F86 -> Girl Accessories | O88: Qty | AC88: =IF(OR(G88="",Z88>0),IF($B$1="form codes:",D88,C88&IF(E88="*"," US","")),"") -> X
B89: =F89&I89 -> GA4815002 | D89: X | E89: * | F89: GA4815 | G89: Girl OG Candle | I89: 002 | J89: =PROPER(L89) -> White | K89: =VLOOKUP($B89,'sku master'!B:H,5,0) -> GIRL OG CANDLE | L89: =VLOOKUP($B89,'sku master'!B:H,7,0) -> WHITE | M89: {=INDEX('sku master'!$C$1:$C$705,MATCH($F89,'sku master'!$E$1:$E$705,0))} -> GIRL | N89: =VLOOKUP(VLOOKUP($B89,'sku master'!B:D,3,0),merch,2,0) -> ACCESSORIES | X89: =SUM(O89:W89) -> 0 | Y89: 3000 | Z89: =Y89*X89 -> 0 | AC89: =IF(OR(G89="",Z89>0),IF($B$1="form codes:",D89,C89&IF(E89="*"," US","")),"")
B90: =F90&I90 -> GA4710001 | D90: X | E90: * | F90: GA4710 | G90: City Tote | I90: 001 | J90: =PROPER(L90) -> Black | K90: =VLOOKUP($B90,'sku master'!B:H,5,0) -> GIRL CITY TOTE | L90: =VLOOKUP($B90,'sku master'!B:H,7,0) -> BLACK | M90: {=INDEX('sku master'!$C$1:$C$705,MATCH($F90,'sku master'!$E$1:$E$705,0))} -> GIRL | N90: =VLOOKUP(VLOOKUP($B90,'sku master'!B:D,3,0),merch,2,0) -> ACCESSORIES | X90: =SUM(O90:W90) -> 0 | Y90: 3900 | Z90: =Y90*X90 -> 0 | AC90: =IF(OR(G90="",Z90>0),IF($B$1="form codes:",D90,C90&IF(E90="*"," US","")),"")
B91: =F91&I91 -> GA4993001 | D91: X | E91: * | F91: GA4993 | G91: =PROPER(K91) -> Carroll Griptape Pack | I91: 001 | J91: =PROPER(L91) -> Black | K91: =VLOOKUP($B91,'sku master'!B:H,5,0) -> CARROLL GRIPTAPE PACK | L91: =VLOOKUP($B91,'sku master'!B:H,7,0) -> BLACK | M91: {=INDEX('sku master'!$C$1:$C$705,MATCH($F91,'sku master'!$E$1:$E$705,0))} -> GIRL | N91: =VLOOKUP(VLOOKUP($B91,'sku master'!B:D,3,0),merch,2,0) -> ACCESSORIES | X91: =SUM(O91:W91) -> 0 | Y91: 2200 | Z91: =Y91*X91 -> 0 | AC91: =IF(OR(G91="",Z91>0),IF($B$1="form codes:",D91,C91&IF(E91="*"," US","")),"")
B92: =F92&I92 -> GD5003749 | D92: X | E92: * | F92: GD5003 | G92: =PROPER(K92) -> Girl Blammo Sticker Set 4 Pk | I92: 749 | J92: =PROPER(L92) -> Multi Color | K92: =VLOOKUP($B92,'sku master'!B:H,5,0) -> GIRL BLAMMO STICKER SET 4 PK | L92: =VLOOKUP($B92,'sku master'!B:H,7,0) -> MULTI COLOR | M92: {=INDEX('sku master'!$C$1:$C$705,MATCH($F92,'sku master'!$E$1:$E$705,0))} -> GIRL | N92: =VLOOKUP(VLOOKUP($B92,'sku master'!B:D,3,0),merch,2,0) -> ACCESSORIES | X92: =SUM(O92:W92) -> 0 | Y92: 1200 | Z92: =Y92*X92 -> 0 | AC92: =IF(OR(G92="",Z92>0),IF($B$1="form codes:",D92,C92&IF(E92="*"," US","")),"")
B93: =F93&I93 -> GD5002749 | D93: X | E93: * | F93: GD5002 | G93: =PROPER(K93) -> Girl Summer Sticker Set 5 Pk | I93: 749 | J93: =PROPER(L93) -> Multi Color | K93: =VLOOKUP($B93,'sku master'!B:H,5,0) -> GIRL SUMMER STICKER SET 5 PK | L93: =VLOOKUP($B93,'sku master'!B:H,7,0) -> MULTI COLOR | M93: {=INDEX('sku master'!$C$1:$C$705,MATCH($F93,'sku master'!$E$1:$E$705,0))} -> GIRL | N93: =VLOOKUP(VLOOKUP($B93,'sku master'!B:D,3,0),merch,2,0) -> ACCESSORIES | X93: =SUM(O93:W93) -> 0 | Y93: 1500 | Z93: =Y93*X93 -> 0 | AC93: =IF(OR(G93="",Z93>0),IF($B$1="form codes:",D93,C93&IF(E93="*"," US","")),"")
B94: =F94&I94 -> GD4730024 | D94: X | E94: * | F94: GD4730 | G94: City Sticker 10 Pack | I94: 024 | J94: =PROPER(L94) -> Assorted Colors | K94: =VLOOKUP($B94,'sku master'!B:H,5,0) -> GIRL CITY STICKER 10 PK | L94: =VLOOKUP($B94,'sku master'!B:H,7,0) -> ASSORTED COLORS | M94: {=INDEX('sku master'!$C$1:$C$705,MATCH($F94,'sku master'!$E$1:$E$705,0))} -> GIRL | N94: =VLOOKUP(VLOOKUP($B94,'sku master'!B:D,3,0),merch,2,0) -> ACCESSORIES | X94: =SUM(O94:W94) -> 0 | Y94: 2000 | Z94: =Y94*X94 -> 0 | AC94: =IF(OR(G94="",Z94>0),IF($B$1="form codes:",D94,C94&IF(E94="*"," US","")),"")
B95: =F95&I95 -> GD4744024 | D95: X | E95: * | F95: GD4744 | G95: OG Out of the Box 10 Pack | I95: 024 | J95: =PROPER(L95) -> Assorted Colors | K95: =VLOOKUP($B95,'sku master'!B:H,5,0) -> GIRL OUT OF THE BOX 10 PACK | L95: =VLOOKUP($B95,'sku master'!B:H,7,0) -> ASSORTED COLORS | M95: {=INDEX('sku master'!$C$1:$C$705,MATCH($F95,'sku master'!$E$1:$E$705,0))} -> GIRL | N95: =VLOOKUP(VLOOKUP($B95,'sku master'!B:D,3,0),merch,2,0) -> ACCESSORIES | X95: =SUM(O95:W95) -> 0 | Y95: 2500 | Z95: =Y95*X95 -> 0 | AC95: =IF(OR(G95="",Z95>0),IF($B$1="form codes:",D95,C95&IF(E95="*"," US","")),"")
B96: =F96&I96 -> GD4745024 | D96: X | E96: * | F96: GD4745 | G96: Sketchy OG 10 Pack | I96: 024 | J96: =PROPER(L96) -> Assorted Colors | K96: =VLOOKUP($B96,'sku master'!B:H,5,0) -> GIRL SKETCHY OG 10 PACK | L96: =VLOOKUP($B96,'sku master'!B:H,7,0) -> ASSORTED COLORS | M96: {=INDEX('sku master'!$C$1:$C$705,MATCH($F96,'sku master'!$E$1:$E$705,0))} -> GIRL | N96: =VLOOKUP(VLOOKUP($B96,'sku master'!B:D,3,0),merch,2,0) -> ACCESSORIES | X96: =SUM(O96:W96) -> 0 | Y96: 2500 | Z96: =Y96*X96 -> 0 | AC96: =IF(OR(G96="",Z96>0),IF($B$1="form codes:",D96,C96&IF(E96="*"," US","")),"")
B97: =F97&I97 -> GD4743024 | D97: X | E97: * | F97: GD4743 | G97: OG In the Box 4" 10 Pack | I97: 024 | J97: =PROPER(L97) -> Assorted Colors | K97: =VLOOKUP($B97,'sku master'!B:H,5,0) -> GIRL 4" OG IN THE BOX DECAL 10 | L97: =VLOOKUP($B97,'sku master'!B:H,7,0) -> ASSORTED COLORS | M97: {=INDEX('sku master'!$C$1:$C$705,MATCH($F97,'sku master'!$E$1:$E$705,0))} -> GIRL | N97: =VLOOKUP(VLOOKUP($B97,'sku master'!B:D,3,0),merch,2,0) -> ACCESSORIES | X97: =SUM(O97:W97) -> 0 | Y97: 2500 | Z97: =Y97*X97 -> 0 | AC97: =IF(OR(G97="",Z97>0),IF($B$1="form codes:",D97,C97&IF(E97="*"," US","")),"")
B98: =F98&I98 -> GD4742024 | D98: X | E98: * | F98: GD4742 | G98: OG In the Box 6" 10 Pack | I98: 024 | J98: =PROPER(L98) -> Assorted Colors | K98: =VLOOKUP($B98,'sku master'!B:H,5,0) -> GIRL 6" OG IN THE BOX DECAL 10 | L98: =VLOOKUP($B98,'sku master'!B:H,7,0) -> ASSORTED COLORS | M98: {=INDEX('sku master'!$C$1:$C$705,MATCH($F98,'sku master'!$E$1:$E$705,0))} -> GIRL | N98: =VLOOKUP(VLOOKUP($B98,'sku master'!B:D,3,0),merch,2,0) -> ACCESSORIES | X98: =SUM(O98:W98) -> 0 | Y98: 4000 | Z98: =Y98*X98 -> 0 | AC98: =IF(OR(G98="",Z98>0),IF($B$1="form codes:",D98,C98&IF(E98="*"," US","")),"")
B99: =F99&I99 | D99: X | E99: * | AC99: =IF(OR(G99="",Z99>0),IF($B$1="form codes:",D99,C100&IF(E99="*"," US","")),"") -> X
C100: =F100 -> Girl Accessories | D100: X | E100: * | F100: Girl Accessories | O100: OS | P100: 7/8" | Q100: `1" | AC100: =IF(OR(G100="",Z100>0),IF($B$1="form codes:",D100,#REF!&IF(E100="*"," US","")),"") -> X
...

Sheet sku master
A1: check | B1: sku | C1: sfsgroup_name1 | D1: sfsgroup_name3 | E1: style | F1: style_name | G1: color_code | H1: sfc_colorname | I1: season | K1: b_price | L1: sfsgroup_name5
A2: =IF(ISERROR(VLOOKUP($B2,'WR52 D1'!$B:$B,1,0)),"","X") -> X | B2: =E2&G2 -> CA4201001 | C2: CHOCOLATE | D2: HARDWARE | E2: CA4201 | F2: CHOCOLATE CHUNK 20 GRIP PAK | G2: 001 | H2: BLACK | I2: WR46 | K2: 112.5
A3: =IF(ISERROR(VLOOKUP($B3,'WR52 D1'!$B:$B,1,0)),"","X") -> X | B3: =E3&G3 -> CA4204001 | C3: CHOCOLATE | D3: MISC. | E3: CA4204 | F3: CHOCOLATE FOREVER 20 GRIP PAK | G3: 001 | H3: BLACK | I3: WR46 | K3: 112.5 | L3: DROP SHIP 1
A4: =IF(ISERROR(VLOOKUP($B4,'WR52 D1'!$B:$B,1,0)),"","X") -> X | B4: =E4&G4 -> CA4410012 | C4: CHOCOLATE | D4: ACCESSORIES | E4: CA4410 | F4: CHOCOLATE CHUNK GRILL | G4: 012 | H4: RED | I4: WR41 | K4: 42 | L4: DROP SHIP 3
A5: =IF(ISERROR(VLOOKUP($B5,'WR52 D1'!$B:$B,1,0)),"","X") -> X | B5: =E5&G5 -> CA4701001 | C5: CHOCOLATE | D5: MISC. | E5: CA4701 | F5: CHOC CHUNK SPOT CHAIR | G5: 001 | H5: BLACK | I5: WR47 | K5: 21 | L5: DROP SHIP 2
A6: =IF(ISERROR(VLOOKUP($B6,'WR52 D1'!$B:$B,1,0)),"","X") -> X | B6: =E6&G6 -> CA4831001 | C6: CHOCOLATE | D6: BAGS | E6: CA4831 | F6: CHOCOLATE TRAVEL DUFFEL | G6: 001 | H6: BLACK | I6: WR48 | K6: 55 | L6: DROP SHIP 3
A7: =IF(ISERROR(VLOOKUP($B7,'WR52 D1'!$B:$B,1,0)),"","X") -> X | B7: =E7&G7 -> CA4832001 | C7: CHOCOLATE | D7: BAGS | E7: CA4832 | F7: CHOCOLATE SLING SACK | G7: 001 | H7: BLACK | I7: WR48 | K7: 22 | L7: DROP SHIP 3
A8: =IF(ISERROR(VLOOKUP($B8,'WR52 D1'!$B:$B,1,0)),"","X") -> X | B8: =E8&G8 -> CA4833001 | C8: CHOCOLATE | D8: BAGS | E8: CA4833 | F8: CHOCOLATE BACKPACK | G8: 001 | H8: BLACK | I8: WR48 | K8: 42 | L8: DROP SHIP 3
A9: =IF(ISERROR(VLOOKUP($B9,'WR52 D1'!$B:$B,1,0)),"","X") -> X | B9: =E9&G9 -> CA4845012 | C9: CHOCOLATE | D9: ACCESSORIES | E9: CA4845 | F9: CHOCOLATE LEDGE WAX | G9: 012 | H9: RED | I9: WR48 | K9: 4.5 | L9: DROP SHIP 4
A10: =IF(ISERROR(VLOOKUP($B10,'WR52 D1'!$B:$B,1,0)),"","X") -> X | B10: =E10&G10 -> CA4846012 | C10: CHOCOLATE | D10: ACCESSORIES | E10: CA4846 | F10: CHOCOLATE CUBE CANDLE | G10: 012 | H10: RED | I10: WR48 | K10: 9.75 | L10: DROP SHIP 4
A11: =IF(ISERROR(VLOOKUP($B11,'WR52 D1'!$B:$B,1,0)),"","X") -> X | B11: =E11&G11 -> CA9402050 | C11: CHOCOLATE | D11: HARDWARE | E11: CA9402 | F11: CHOCOLATE ALLEN BULK 20 PACK | G11: 050 | H11: NON COLOR | I11: WR46 | K11: 50
A12: =IF(ISERROR(VLOOKUP($B12,'WR52 D1'!$B:$B,1,0)),"","X") -> X | B12: =E12&G12 -> CA9403050 | C12: CHOCOLATE | D12: HARDWARE | E12: CA9403 | F12: CHOCOLATE PHILLIPS BULK 20 PACK | G12: 050 | H12: NON COLOR | I12: WR46 | K12: 50
A13: =IF(ISERROR(VLOOKUP($B13,'WR52 D1'!$B:$B,1,0)),"","X") -> X | B13: =E13&G13 -> CA9405050 | C13: CHOCOLATE | D13: HARDWARE | E13: CA9405 | F13: CHOCOLATE ABEC 5 BULK 12 PACK | G13: 050 | H13: NON COLOR | I13: WR46 | K13: 90
A14: =IF(ISERROR(VLOOKUP($B14,'WR52 D1'!$B:$B,1,0)),"","X") -> X | B14: =E14&G14 -> CA9407050 | C14: CHOCOLATE | D14: HARDWARE | E14: CA9407 | F14: CHOCOLATE SWISS BULK 12 PACK | G14: 050 | H14: NON COLOR | I14: WR46 | K14: 135
A15: =IF(ISERROR(VLOOKUP($B15,'WR52 D1'!$B:$B,1,0)),"","X") -> X | B15: =E15&G15 -> CA9409001 | C15: CHOCOLATE | D15: ACCESSORIES | E15: CA9409 | F15: CHOCOLATE RECYCLED RAILS | G15: 001 | H15: BLACK | I15: ALL | K15: 5 | L15: DROP SHIP 1
A16: =IF(ISERROR(VLOOKUP($B16,'WR52 D1'!$B:$B,1,0)),"","X") -> X | B16: =E16&G16 -> CA9409012 | C16: CHOCOLATE | D16: ACCESSORIES | E16: CA9409 | F16: CHOCOLATE RECYCLED RAILS | G16: 012 | H16: RED | I16: ALL | K16: 5 | L16: DROP SHIP 1
A17: =IF(ISERROR(VLOOKUP($B17,'WR52 D1'!$B:$B,1,0)),"","X") -> X | B17: =E17&G17 -> CD4111024 | C17: CHOCOLATE | D17: DECALS | E17: CD4111 | F17: CHOC CHUNK 5" DECAL- 10 PK | G17: 024 | H17: ASSORTED COLORS | I17: WR41 | K17: 9 | L17: DROP SHIP 3
A18: =IF(ISERROR(VLOOKUP($B18,'WR52 D1'!$B:$B,1,0)),"","X") -> X | B18: =E18&G18 -> CD4112024 | C18: CHOCOLATE | D18: DECALS | E18: CD4112 | F18: CHOC CHUNK 3" DECAL- 10 PK | G18: 024 | H18: ASSORTED COLORS | I18: WR41 | K18: 4 | L18: DROP SHIP 3
A19: =IF(ISERROR(VLOOKUP($B19,'WR52 D1'!$B:$B,1,0)),"","X") -> X | B19: =E19&G19 -> CD4113024 | C19: CHOCOLATE | D19: DECALS | E19: CD4113 | F19: CHOC CHUNK 5" DECAL- 100 PK | G19: 024 | H19: ASSORTED COLORS | I19: WR41 | K19: 40 | L19: DROP SHIP 3
A20: =IF(ISERROR(VLOOKUP($B20,'WR52 D1'!$B:$B,1,0)),"","X") -> X | B20: =E20&G20 -> CD4114024 | C20: CHOCOLATE | D20: DECALS | E20: CD4114 | F20: CHOC CHUNK 3" DECAL- 100 PK | G20: 024 | H20: ASSORTED COLORS | I20: WR41 | K20: 30 | L20: DROP SHIP 3
A21: =IF(ISERROR(VLOOKUP($B21,'WR52 D1'!$B:$B,1,0)),"","X") -> X | B21: =E21&G21 -> CD5013749 | C21: CHOCOLATE | D21: DECALS | E21: CD5013 | F21: CHOC TROMPO DECAL 4 PK | G21: 749 | H21: MULTI COLOR | I21: WR50 | K21: 4 | L21: DROP SHIP 2
A22: =IF(ISERROR(VLOOKUP($B22,'WR52 D1'!$B:$B,1,0)),"","X") -> X | B22: =E22&G22 -> CH125114001 | C22: CHOCOLATE | D22: HATS | E22: CH125114 | F22: CHOC ORIGINAL CHUNK '94 HAT | G22: 001 | H22: BLACK | I22: WR49 | K22: 16 | L22: DROP SHIP 2
A23: =IF(ISERROR(VLOOKUP($B23,'WR52 D1'!$B:$B,1,0)),"","X") -> X | B23: =E23&G23 -> CSW125110777 | C23: CHOCOLATE | D23: SWEATSHIRTS | E23: CSW125110 | F23: CHOC CHUNK CLASSIC HOOD | G23: 777 | H23: GUNMETAL HEATHER | I23: WR49 | K23: 33.5 | L23: DROP SHIP 4
A24: =IF(ISERROR(VLOOKUP($B24,'WR52 D1'!$B:$B,1,0)),"","X") -> X | B24: =E24&G24 -> CSW125202001 | C24: CHOCOLATE | D24: SWEATSHIRTS | E24: CSW125202 | F24: CHOC CHUNK CLASSIC CREW | G24: 001 | H24: BLACK | I24: WR49 | K24: 28.5 | L24: DROP SHIP 4
A25: =IF(ISERROR(VLOOKUP($B25,'WR52 D1'!$B:$B,1,0)),"","X") -> X | B25: =E25&G25 -> CTA4005749 | C25: CRAILTAP | D25: ACCESSORIES | E25: CTA4005 | F25: CRAILTAP RIP THE GRIP PENS | G25: 749 | H25: MULTI COLOR | I25: WR41 | K25: 6.5 | L25: DROP SHIP 3
A26: =IF(ISERROR(VLOOKUP($B26,'WR52 D1'!$B:$B,1,0)),"","X") -> X | B26: =E26&G26 -> CTA4310797 | C26: CRAILTAP | D26: ACCESSORIES | E26: CTA4310 | F26: CRAILTAP CERAMIC TRAY | G26: 797 | H26: RAINBOW | I26: WR44 | K26: 8.75 | L26: DROP SHIP 1
... A55: =IF(ISERROR(VLOOKUP($B55,'WR52 D1'!$B:$B,1,0)),"","X") -> X | B55: =E55&G55 -> GD4744024 | C55: GIRL | D55: DECALS | E55: GD4744 | F55: GIRL OUT OF THE BOX 10 PACK | G55: 024 | H55: ASSORTED COLORS | I55: WR47 | K55: 6 | L55: DROP SHIP 4
A56: =IF(ISERROR(VLOOKUP($B56,'[1]WR48 #1'!$B:$B,1,0)),"","X") | B56: =E56&G56 -> GD4745024 | C56: GIRL | D56: DECALS | E56: GD4745 | F56: GIRL SKETCHY OG 10 PACK | G56: 024 | H56: ASSORTED COLORS | I56: WR47 | K56: 6 | L56: DROP SHIP 4
A57: =IF(ISERROR(VLOOKUP($B57,'WR52 D1'!$B:$B,1,0)),"","X") -> X | B57: =E57&G57 -> GD5002749 | C57: GIRL | D57: DECALS | E57: GD5002 | F57: GIRL SUMMER STICKER SET 5 PK | G57: 749 | H57: MULTI COLOR | I57: WR50 | K57: 5 | L57: DROP SHIP 1
A58: =IF(ISERROR(VLOOKUP($B58,'WR52 D1'!$B:$B,1,0)),"","X") -> X | B58: =E58&G58 -> GD5003749 | C58: GIRL | D58: DECALS | E58: GD5003 | F58: GIRL BLAMMO STICKER SET 4 PK | G58: 749 | H58: MULTI COLOR | I58: WR50 | K58: 4 | L58: DROP SHIP 2
A59: =IF(ISERROR(VLOOKUP($B59,'WR52 D1'!$B:$B,1,0)),"","X") -> X | B59: =E59&G59 -> GH125111001 | C59: GIRL | D59: HATS | E59: GH125111 | F59: GIRL OG CLASSIC SNAPBACK | G59: 001 | H59: BLACK | I59: WR49 | K59: 16 | L59: DROP SHIP 1
A60: =IF(ISERROR(VLOOKUP($B60,'WR52 D1'!$B:$B,1,0)),"","X") -> X | B60: =E60&G60 -> GH125201001 | C60: GIRL | D60: BEANIES | E60: GH125201 | F60: GIRL CLASSIC OG BEANIE | G60: 001 | H60: BLACK | I60: WR49 | K60: 14 | L60: DROP SHIP 1
A61: =IF(ISERROR(VLOOKUP($B61,'WR52 D1'!$B:$B,1,0)),"","X") -> X | B61: =E61&G61 -> GTS125125001 | C61: GIRL | D61: T SHIRTS | E61: GTS125125 | F61: GIRL CLASSIC OG TEE | G61: 001 | H61: BLACK | I61: WR49 | K61: 13.5 | L61: DROP SHIP 2
A62: =IF(ISERROR(VLOOKUP($B62,'WR52 D1'!$B:$B,1,0)),"","X") -> X | B62: =E62&G62 -> GTS125125002 | C62: GIRL | D62: T SHIRTS | E62: GTS125125 | F62: GIRL CLASSIC OG TEE | G62: 002 | H62: WHITE | I62: WR49 | K62: 13.5 | L62: DROP SHIP 2
A63: =IF(ISERROR(VLOOKUP($B63,'WR52 D1'!$B:$B,1,0)),"","X") -> X | B63: =E63&G63 -> GTS125125811 | C63: GIRL | D63: T SHIRTS | E63: GTS125125 | F63: GIRL CLASSIC OG TEE | G63: 811 | H63: ASH HEATHER | I63: WR49 | K63: 13.5 | L63: DROP SHIP 2
A64: =IF(ISERROR(VLOOKUP($B64,'WR52 D1'!$B:$B,1,0)),"","X") -> X | B64: =E64&G64 -> GTS125203002 | C64: GIRL | D64: T SHIRTS | E64: GTS125203 | F64: GIRL CLASSIC L/S TEE | G64: 002 | H64: WHITE | I64: WR49 | K64: 15.75 | L64: DROP SHIP 2
A65: =IF(ISERROR(VLOOKUP($B65,'WR52 D1'!$B:$B,1,0)),"","X") | B65: =E65&G65 -> RH322202001 | C65: ROYAL | D65: BEANIES | E65: RH322202 | F65: ROYAL SCRIPT PATCH BEANIE | G65: 001 | H65: BLACK | I65: WR44 | K65: 10.75 | L65: DROP SHIP 2
A66: =IF(ISERROR(VLOOKUP($B66,'WR52 D1'!$B:$B,1,0)),"","X") | B66: =E66&G66 -> RH323101001 | C66: ROYAL | D66: HATS | E66: RH323101 | F66: ROYAL BRICK SNAPBACK HAT | G66: 001 | H66: BLACK | I66: WR46 | K66: 14.25 | L66: DROP SHIP 3
A67: =IF(ISERROR(VLOOKUP($B67,'WR52 D1'!$B:$B,1,0)),"","X") | B67: =E67&G67 -> RTR2050501 | C67: ROYAL | D67: TRUCKS | E67: RTR2050 | F67: THE ROYAL TRUCK | G67: 501 | H67: RAW (NO LOGO) | I67: WR41 | K67: 11.5
A68: =IF(ISERROR(VLOOKUP($B68,'WR52 D1'!$B:$B,1,0)),"","X") | B68: =E68&G68 -> RTR2051501 | C68: ROYAL | D68: TRUCKS | E68: RTR2051 | F68: THE ROYAL INVERTED TRUCK | G68: 501 | H68: RAW (NO LOGO) | I68: WR41 | K68: 12.5
A69: =IF(ISERROR(VLOOKUP($B69,'WR52 D1'!$B:$B,1,0)),"","X") | B69: =E69&G69 -> RTR2052501 | C69: ROYAL | D69: TRUCKS | E69: RTR2052 | F69: THE ROYAL ULTRA LIGHTS | G69: 501 | H69: RAW (NO LOGO) | I69: WR41 | K69: 14
A70: =IF(ISERROR(VLOOKUP($B70,'WR52 D1'!$B:$B,1,0)),"","X") | B70: =E70&G70 -> RTS126101001 | C70: ROYAL | D70: T SHIRTS | E70: RTS126101 | F70: ROYAL ROLLS TEE | G70: 001 | H70: BLACK | I70: WR51 | K70: 11 | L70: DROP SHIP 1
A71: =IF(ISERROR(VLOOKUP($B71,'WR52 D1'!$B:$B,1,0)),"","X") | B71: =E71&G71 -> RTS126101002 | C71: ROYAL | D71: T SHIRTS | E71: RTS126101 | F71: ROYAL ROLLS TEE | G71: 002 | H71: WHITE | I71: WR51 | K71: 11 | L71: DROP SHIP 1
A72: =IF(ISERROR(VLOOKUP($B72,'WR52 D1'!$B:$B,1,0)),"","X") -> X | B72: =E72&G72 -> CC5210G004 | C72: CHOCOLATE | D72: COMPLETES | E72: CC5210 | F72: TRAHAN BIRDS COMPLETE | G72: G004 | H72: 7.5" X 28.65" | I72: WR52 | K72: 49 | L72: DROP SHIP 1
A73: =IF(ISERROR(VLOOKUP($B73,'WR52 D1'!$B:$B,1,0)),"","X") -> X | B73: =E73&G73 -> CC5210G018 | C73: CHOCOLATE | D73: COMPLETES | E73: CC5210 | F73: TRAHAN BIRDS COMPLETE | G73: G018 | H73: 8" X 31.5" | I73: WR52 | K73: 49 | L73: DROP SHIP 1
A74: =IF(ISERROR(VLOOKUP($B74,'WR52 D1'!$B:$B,1,0)),"","X") -> X | B74: =E74&G74 -> CC5211G077 | C74: CHOCOLATE | D74: COMPLETES | E74: CC5211 | F74: HERRERA SKRUNK COMPLETE | G74: G077 | H74: 7.3" X 28" | I74: WR52 | K74: 49 | L74: DROP SHIP 1
A75: =IF(ISERROR(VLOOKUP($B75,'WR52 D1'!$B:$B,1,0)),"","X") -> X | B75: =E75&G75 -> CC5211G080 | C75: CHOCOLATE | D75: COMPLETES | E75: CC5211 | F75: HERRERA SKRUNK COMPLETE | G75: G080 | H75: 8" X 31.88" | I75: WR52 | K75: 49 | L75: DROP SHIP 1
A76: =IF(ISERROR(VLOOKUP($B76,'WR52 D1'!$B:$B,1,0)),"","X") -> X | B76: =E76&G76 -> CC5212G005 | C76: CHOCOLATE | D76: COMPLETES | E76: CC5212 | F76: AIKENS STREET CINEMA COMPLETE | G76: G005 | H76: 7.75" X 30" | I76: WR52 | K76: 49 | L76: DROP SHIP 1
A77: =IF(ISERROR(VLOOKUP($B77,'WR52 D1'!$B:$B,1,0)),"","X") -> X | B77: =E77&G77 -> CC5212G007 | C77: CHOCOLATE | D77: COMPLETES | E77: CC5212 | F77: AIKENS STREET CINEMA COMPLETE | G77: G007 | H77: 7.0" X 28" | I77: WR52 | K77: 49 | L77: DROP SHIP 1
A78: =IF(ISERROR(VLOOKUP($B78,'WR52 D1'!$B:$B,1,0)),"","X") -> X | B78: =E78&G78 -> CB5251G039 | C78: CHOCOLATE | D78: DECKS | E78: CB5251 | F78: CAPPS SCRUNK DECK | G78: G039 | H78: 8.5" X 31.75" | I78: WR52 | K78: 35.5 | L78: DROP SHIP 1
A79: =IF(ISERROR(VLOOKUP($B79,'WR52 D1'!$B:$B,1,0)),"","X") -> X | B79: =E79&G79 -> CB5251G080 | C79: CHOCOLATE | D79: DECKS | E79: CB5251 | F79: CAPPS SCRUNK DECK | G79: G080 | H79: 8" X 31.88" | I79: WR52 | K79: 35.5 | L79: DROP SHIP 1
A80: =IF(ISERROR(VLOOKUP($B80,'WR52 D1'!$B:$B,1,0)),"","X") -> X | B80: =E80&G80 -> CB5252G008 | C80: CHOCOLATE | D80: DECKS | E80: CB5252 | F80: HERRERA SCRUNK DECK | G80: G008 | H80: 8" X 31.875" | I80: WR52 | K80: 35.5 | L80: DROP SHIP 1
A81: =IF(ISERROR(VLOOKUP($B81,'WR52 D1'!$B:$B,1,0)),"","X") -> X | B81: =E81&G81 -> CB5252G033 | C81: CHOCOLATE | D81: DECKS | E81: CB5252 | F81: HERRERA SCRUNK DECK | G81: G033 | H81: 8.5" X 32" | I81: WR52 | K81: 35.5 | L81: DROP SHIP 1
... A167: =IF(ISERROR(VLOOKUP($B167,'WR52 D1'!$B:$B,1,0)),"","X") -> X | B167: =E167&G167 -> GH125110384 | C167: GIRL | D167: HATS | E167: GH125110 | F167: GIRL CLASSIC OG SNAPBACK | G167: 384 | H167: BLACK/GREY | I167: WR49 | K167: 16 | L167: DROP SHIP 1
A168: =IF(ISERROR(VLOOKUP($B168,'[2]WR51 D3'!$B:$B,1,0)),"","X") -> X | B168: =E168&G168 -> CD4110749 | C168: CHOCOLATE | D168: DECALS | E168: CD4110 | F168: CHOCO HERITAGE STICKER 10 PACK | G168: 749 | H168: MULTI COLOR | I168: WR41 | K168: 5 | L168: DROP SHIP 3
A169: =IF(ISERROR(VLOOKUP($B169,'[2]WR51 D3'!$B:$B,1,0)),"","X") -> X | B169: =E169&G169 -> CD5012749 | C169: CHOCOLATE | D169: DECALS | E169: CD5012 | F169: CHOC LOST SINGLES DECAL 4 PK | G169: 749 | H169: MULTI COLOR | I169: WR50 | K169: 4 | L169: DROP SHIP 2

Sheet upc master
A1: check | B1: sku | C1: udf_zzxstrpt_001 | D1: season | E1: style | F1: style_name | G1: color_code | H1: sfc_colorname | I1: sizes
A2: =IF(ISERROR(VLOOKUP($B2,'WR52 D1'!$B:$B,1,0)),"","X") -> X | B2: =E2&G2 -> CA9409001 | C2: 889846231768 | D2: ALL | E2: CA9409 | F2: CHOCOLATE RECYCLED RAILS | G2: 001 | H2: BLACK | I2: NS
A3: =IF(ISERROR(VLOOKUP($B3,'WR52 D1'!$B:$B,1,0)),"","X") -> X | B3: =E3&G3 -> CA9409012 | C3: 889846231751 | D3: ALL | E3: CA9409 | F3: CHOCOLATE RECYCLED RAILS | G3: 012 | H3: RED | I3: NS
A4: =IF(ISERROR(VLOOKUP($B4,'WR52 D1'!$B:$B,1,0)),"","X") -> X | B4: =E4&G4 -> CD4110749 | C4: 889846213825 | D4: WR41 | E4: CD4110 | F4: CHOCO HERITAGE STICKER 10 PACK | G4: 749 | H4: MULTI COLOR | I4: NS
A5: =IF(ISERROR(VLOOKUP($B5,'WR52 D1'!$B:$B,1,0)),"","X") -> X | B5: =E5&G5 -> CD4111024 | C5: 889846213689 | D5: WR41 | E5: CD4111 | F5: CHOC CHUNK 5" DECAL- 10 PK | G5: 024 | H5: ASSORTED COLORS | I5: NS
A6: =IF(ISERROR(VLOOKUP($B6,'WR52 D1'!$B:$B,1,0)),"","X") -> X | B6: =E6&G6 -> CD4112024 | C6: 889846213702 | D6: WR41 | E6: CD4112 | F6: CHOC CHUNK 3" DECAL- 10 PK | G6: 024 | H6: ASSORTED COLORS | I6: NS
A7: =IF(ISERROR(VLOOKUP($B7,'WR52 D1'!$B:$B,1,0)),"","X") -> X | B7: =E7&G7 -> CD4113024 | C7: 889846213696 | D7: WR41 | E7: CD4113 | F7: CHOC CHUNK 5" DECAL- 100 PK | G7: 024 | H7: ASSORTED COLORS | I7: NS
A8: =IF(ISERROR(VLOOKUP($B8,'WR52 D1'!$B:$B,1,0)),"","X") -> X | B8: =E8&G8 -> CD4114024 | C8: 889846213719 | D8: WR41 | E8: CD4114 | F8: CHOC CHUNK 3" DECAL- 100 PK | G8: 024 | H8: ASSORTED COLORS | I8: NS
A9: =IF(ISERROR(VLOOKUP($B9,'WR52 D1'!$B:$B,1,0)),"","X") -> X | B9: =E9&G9 -> CTA4005749 | C9: 889846218530 | D9: WR41 | E9: CTA4005 | F9: CRAILTAP RIP THE GRIP PENS | G9: 749 | H9: MULTI COLOR | I9: NS
A10: =IF(ISERROR(VLOOKUP($B10,'WR52 D1'!$B:$B,1,0)),"","X") | B10: =E10&G10 -> RTR2050501 | C10: 889846194155 | D10: WR41 | E10: RTR2050 | F10: THE ROYAL TRUCK | G10: 501 | H10: RAW (NO LOGO) | I10: 127
A11: =IF(ISERROR(VLOOKUP($B11,'WR52 D1'!$B:$B,1,0)),"","X") | B11: =E11&G11 -> RTR2050501 | C11: 889846194162 | D11: WR41 | E11: RTR2050 | F11: THE ROYAL TRUCK | G11: 501 | H11: RAW (NO LOGO) | I11: 139
A12: =IF(ISERROR(VLOOKUP($B12,'WR52 D1'!$B:$B,1,0)),"","X") | B12: =E12&G12 -> RTR2050501 | C12: 889846194179 | D12: WR41 | E12: RTR2050 | F12: THE ROYAL TRUCK | G12: 501 | H12: RAW (NO LOGO) | I12: 144
A13: =IF(ISERROR(VLOOKUP($B13,'WR52 D1'!$B:$B,1,0)),"","X") | B13: =E13&G13 -> RTR2050501 | C13: 889846194186 | D13: WR41 | E13: RTR2050 | F13: THE ROYAL TRUCK | G13: 501 | H13: RAW (NO LOGO) | I13: 149
... A344: =IF(ISERROR(VLOOKUP($B344,'WR52 D1'!$B:$B,1,0)),"","X") -> X | B344: =E344&G344 -> CD5012749 | C344: 889846349173 | D344: WR50 | E344: CD5012 | F344: CHOC LOST SINGLES DECAL 4 PK | G344: 749 | H344: MULTI COLOR | I344: NS

Sheet shapes
A1: Size | B1: Description | C1: Name
A2: G036 | B2: 8.5" X 32.375" "BURLY" | C2: Burly
A3: G041 | B3: 9.125" X 32.625" - PHAWT | C3: Phawt
A4: G042 | B4: 8.5" X 31.625" SKIDUL | C4: Skidul
A5: G037 | B5: 8.75" X 32.25" WB 14" | C5: Big Boy Jr
A6: G040 | B6: 9" X 32.25" "BIG BOY" | C6: Big Boy
A7: G055 | B7: 9" X 32"- LOVE SEAT | C7: Love Seat
A8: G048 | B8: 9.25" X 32" X 13.875" WB | C8: Couch

Sheet merchtype
A1: Merch Type | B1: Revised
A2: ACCESSORIES | B2: ACCESSORIES
A3: BAGS | B3: ACCESSORIES
A4: BELTS | B4: ACCESSORIES
A5: BOTTOMS | B5: SOFTGOODS
A6: PROMOTIONAL | B6: ACCESSORIES
A7: COMPLETES | B7: COMPLETES
A8: DECALS | B8: ACCESSORIES
A9: DECKS | B9: DECKS
A10: HARDWARE | B10: ACCESSORIES
A11: BEANIES | B11: HATS
A12: HATS | B12: HATS
... A23: WHEELS | B23: WHEELS
