Workbook
Name brand: 'WR52 D1'!$M:$M
Name merch: merchtype!$A$1:$B$23
Name merchtype: 'WR52 D1'!$N:$N
Name price: 'WR52 D1'!$B$3
Name shapes: shapes!$A$1:$C$8
Name shipfrom: 'WR52 D1'!$B$5

Sheet Order Summary
A1: Wallride
A2: Order Summary
C6: Merch Group | E6: Total Units | F6: Total Booked
D8: Decks | E8: =SUMIF(merchtype,$D8,'WR52 D1'!X:X) -> 0 | F8: =SUMIF(merchtype,$D8,'WR52 D1'!Z:Z) -> 0
D9: Completes | E9: =SUMIF(merchtype,$D9,'WR52 D1'!X:X) -> 0 | F9: =SUMIF(merchtype,$D9,'WR52 D1'!Z:Z) -> 0
D10: Trucks | E10: =SUMIF(merchtype,$D10,'WR52 D1'!X:X) -> 0 | F10: =SUMIF(merchtype,$D10,'WR52 D1'!Z:Z) -> 0
D11: Wheels | E11: =SUMIF(merchtype,$D11,'WR52 D1'!X:X) -> 0 | F11: =SUMIF(merchtype,$D11,'WR52 D1'!Z:Z) -> 0
D12: Softgoods | E12: =SUMIF(merchtype,$D12,'WR52 D1'!X:X) -> 0 | F12: =SUMIF(merchtype,$D12,'WR52 D1'!Z:Z) -> 0
D13: Hats | E13: =SUMIF(merchtype,$D13,'WR52 D1'!X:X) -> 0 | F13: =SUMIF(merchtype,$D13,'WR52 D1'!Z:Z) -> 0
D14: Accessories | E14: =SUMIF(merchtype,$D14,'WR52 D1'!X:X) -> 0 | F14: =SUMIF(merchtype,$D14,'WR52 D1'!Z:Z) -> 0
C16: Total | E16: =SUM(E8:E15) -> 0 | F16: =SUM(F8:F15) -> 0
C21: Brand | E21: Total Units | F21: Total Booked
D23: Girl | E23: =SUMIF(brand,$D23,'WR52 D1'!X:X) -> 0 | F23: =SUMIF(brand,$D23,'WR52 D1'!Z:Z) -> 0
D24: Chocolate | E24: =SUMIF(brand,$D24,'WR52 D1'!X:X) -> 0 | F24: =SUMIF(brand,$D24,'WR52 D1'!Z:Z) -> 0
D25: Royal | E25: =SUMIF(brand,$D25,'WR52 D1'!X:X) -> 0 | F25: =SUMIF(brand,$D25,'WR52 D1'!Z:Z) -> 0
D26: Crailtap | E26: =SUMIF(brand,$D26,'WR52 D1'!X:X) -> 0 | F26: =SUMIF(brand,$D26,'WR52 D1'!Z:Z) -> 0
C28: Total | E28: =SUM(E23:E27) -> 0 | F28: =SUM(F23:F27) -> 0

Sheet WR52 D1
B1: form codes:
B2: dist | C2: dist/ whsl | F2: Customer: | I2: Shipping: | S2: Units: | X2: Dollars:
B3: =IF(B2="WHSL",9,10) -> 10 | F3: P/O: | S3: =SUM($X$11:$X$233) -> 0 | X3: =SUM(Z11:Z233) -> 0
B4: ship | F4: Notes:
B5: US
L6: オーダー締め切り10/14(水) デリバリー：3月～
D7: X | AC7: Condense
B8: Sku | D8: X | F8: Decks & Softgoods | X8: Total Units | Y8: Unit Price | Z8: Total Price | AC8: =IF(OR(G8="",Z8>0),IF($B$1="form codes:",D8,C8&IF(E8="*"," US","")),"") -> X
B9: =F9&I9 | D9: X | AC9: =IF(OR(G9="",Z9>0),IF($B$1="form codes:",D9,C9&IF(E9="*"," US","")),"") -> X
B10: Girl : Show Flyers Collection | C10: X | F10: =B10 -> Girl : Show Flyers Collection | O10: Qty | AC10: =IF(OR(G10="",Z10>0),IF($B$1="form codes:",C10,#REF!&IF(E10="*"," US","")),"") -> X
B11: =F11&I11 -> GB5201G033 | C11: X | F11: GB5201 | G11: =PROPER(K11) -> Bannerot Show Flyers Deck | I11: G033 | J11: =LEFT(L11,SEARCH(" ",L11)-1)&IF(ISERROR(VLOOKUP(I11,shapes,3,0)),""," "&VLOOKUP(I11,shapes,3,0)) -> 8.5" | K11: =VLOOKUP($B11,'sku master'!B:H,5,0) -> BANNEROT SHOW FLYERS DECK | L11: =VLOOKUP($B11,'sku master'!B:H,7,0) -> 8.5" X 32" | M11: {=INDEX('sku master'!$C$1:$C$705,MATCH($F11,'sku master'!$E$1:$E$705,0))} -> GIRL | N11: =VLOOKUP(VLOOKUP($B11,'sku master'!B:D,3,0),merch,2,0) -> DECKS | X11: =SUM(O11:W11) -> 0 | Y11: 10000 | Z11: =Y11*X11 -> 0 | AC11: =IF(OR(G11="",Z11>0),IF($B$1="form codes:",C11,#REF!&IF(E11="*"," US","")),"")
B12: =F12&I12 -> GB5201G060 | C12: X | F12: GB5201 | G12: =PROPER(K12) -> Bannerot Show Flyers Deck | I12: G060 | J12: =LEFT(L12,SEARCH(" ",L12)-1)&IF(ISERROR(VLOOKUP(I12,shapes,3,0)),""," "&VLOOKUP(I12,shapes,3,0)) -> 9" | K12: =VLOOKUP($B12,'sku master'!B:H,5,0) -> BANNEROT SHOW FLYERS DECK | L12: =VLOOKUP($B12,'sku master'!B:H,7,0) -> 9" X 32.375"-LOVESEAT+ | M12: {=INDEX('sku master'!$C$1:$C$705,MATCH($F12,'sku master'!$E$1:$E$705,0))} -> GIRL | N12: =VLOOKUP(VLOOKUP($B12,'sku master'!B:D,3,0),merch,2,0) -> DECKS | X12: =SUM(O12:W12) -> 0 | Y12: 10000 | Z12: =Y12*X12 -> 0 | AC12: =IF(OR(G12="",Z12>0),IF($B$1="form codes:",C12,#REF!&IF(E12="*"," US","")),"")
B13: =F13&I13 -> GB5202G023 | C13: X | F13: GB5202 | G13: =PROPER(K13) -> Davis Show Flyers Deck | I13: G023 | J13: =LEFT(L13,SEARCH(" ",L13)-1)&IF(ISERROR(VLOOKUP(I13,shapes,3,0)),""," "&VLOOKUP(I13,shapes,3,0)) -> 8.125" | K13: =VLOOKUP($B13,'sku master'!B:H,5,0) -> DAVIS SHOW FLYERS DECK | L13: =VLOOKUP($B13,'sku master'!B:H,7,0) -> 8.125" X 31.625" | M13: {=INDEX('sku master'!$C$1:$C$705,MATCH($F13,'sku master'!$E$1:$E$705,0))} -> GIRL | N13: =VLOOKUP(VLOOKUP($B13,'sku master'!B:D,3,0),merch,2,0) -> DECKS | X13: =SUM(O13:W13) -> 0 | Y13: 10000 | Z13: =Y13*X13 -> 0 | AC13: =IF(OR(G13="",Z13>0),IF($B$1="form codes:",C13,#REF!&IF(E13="*"," US","")),"")
B14: =F14&I14 -> GB5202G052 | C14: X | F14: GB5202 | G14: =PROPER(K14) -> Davis Show Flyers Deck | I14: G052 | J14: =LEFT(L14,SEARCH(" ",L14)-1)&IF(ISERROR(VLOOKUP(I14,shapes,3,0)),""," "&VLOOKUP(I14,shapes,3,0)) -> 8.25" | K14: =VLOOKUP($B14,'sku master'!B:H,5,0) -> DAVIS SHOW FLYERS DECK | L14: =VLOOKUP($B14,'sku master'!B:H,7,0) -> 8.25" X 31.875" | M14: {=INDEX('sku master'!$C$1:$C$705,MATCH($F14,'sku master'!$E$1:$E$705,0))} -> GIRL | N14: =VLOOKUP(VLOOKUP($B14,'sku master'!B:D,3,0),merch,2,0) -> DECKS | X14: =SUM(O14:W14) -> 0 | Y14: 10000 | Z14: =Y14*X14 -> 0 | AC14: =IF(OR(G14="",Z14>0),IF($B$1="form codes:",C14,#REF!&IF(E14="*"," US","")),"")
B15: =F15&I15 -> GB5203G016 | C15: X | F15: GB5203 | G15: =PROPER(K15) -> Pacheco Show Flyers Deck | I15: G016 | J15: =LEFT(L15,SEARCH(" ",L15)-1)&IF(ISERROR(VLOOKUP(I15,shapes,3,0)),""," "&VLOOKUP(I15,shapes,3,0)) -> 8.375" | K15: =VLOOKUP($B15,'sku master'!B:H,5,0) -> PACHECO SHOW FLYERS DECK | L15: =VLOOKUP($B15,'sku master'!B:H,7,0) -> 8.375" X 31.75" | M15: {=INDEX('sku master'!$C$1:$C$705,MATCH($F15,'sku master'!$E$1:$E$705,0))} -> GIRL | N15: =VLOOKUP(VLOOKUP($B15,'sku master'!B:D,3,0),merch,2,0) -> DECKS | X15: =SUM(O15:W15) -> 0 | Y15: 10000 | Z15: =Y15*X15 -> 0 | AC15: =IF(OR(G15="",Z15>0),IF($B$1="form codes:",C15,#REF!&IF(E15="*"," US","")),"")
B16: =F16&I16 -> GB5203G053 | C16: X | F16: GB5203 | G16: =PROPER(K16) -> Pacheco Show Flyers Deck | I16: G053 | J16: =LEFT(L16,SEARCH(" ",L16)-1)&IF(ISERROR(VLOOKUP(I16,shapes,3,0)),""," "&VLOOKUP(I16,shapes,3,0)) -> 8.5" | K16: =VLOOKUP($B16,'sku master'!B:H,5,0) -> PACHECO SHOW FLYERS DECK | L16: =VLOOKUP($B16,'sku master'!B:H,7,0) -> 8.5" X 32" | M16: {=INDEX('sku master'!$C$1:$C$705,MATCH($F16,'sku master'!$E$1:$E$705,0))} -> GIRL | N16: =VLOOKUP(VLOOKUP($B16,'sku master'!B:D,3,0),merch,2,0) -> DECKS | X16: =SUM(O16:W16) -> 0 | Y16: 10000 | Z16: =Y16*X16 -> 0 | AC16: =IF(OR(G16="",Z16>0),IF($B$1="form codes:",C16,#REF!&IF(E16="*"," US","")),"")
B17: =F17&I17 -> GB5204G053 | C17: X | F17: GB5204 | G17: =PROPER(K17) -> Gass Show Flyers Deck | I17: G053 | J17: =LEFT(L17,SEARCH(" ",L17)-1)&IF(ISERROR(VLOOKUP(I17,shapes,3,0)),""," "&VLOOKUP(I17,shapes,3,0)) -> 8.5" | K17: =VLOOKUP($B17,'sku master'!B:H,5,0) -> GASS SHOW FLYERS DECK | L17: =VLOOKUP($B17,'sku master'!B:H,7,0) -> 8.5" X 32" | M17: {=INDEX('sku master'!$C$1:$C$705,MATCH($F17,'sku master'!$E$1:$E$705,0))} -> GIRL | N17: =VLOOKUP(VLOOKUP($B17,'sku master'!B:D,3,0),merch,2,0) -> DECKS | X17: =SUM(O17:W17) -> 0 | Y17: 10000 | Z17: =Y17*X17 -> 0 | AC17: =IF(OR(G17="",Z17>0),IF($B$1="form codes:",C17,#REF!&IF(E17="*"," US","")),"")
B18: =F18&I18 -> GB5204G080 | C18: X | F18: GB5204 | G18: =PROPER(K18) -> Gass Show Flyers Deck | I18: G080 | J18: =LEFT(L18,SEARCH(" ",L18)-1)&IF(ISERROR(VLOOKUP(I18,shapes,3,0)),""," "&VLOOKUP(I18,shapes,3,0)) -> 8" | K18: =VLOOKUP($B18,'sku master'!B:H,5,0) -> GASS SHOW FLYERS DECK | L18: =VLOOKUP($B18,'sku master'!B:H,7,0) -> 8" X 31.88" | M18: {=INDEX('sku master'!$C$1:$C$705,MATCH($F18,'sku master'!$E$1:$E$705,0))} -> GIRL | N18: =VLOOKUP(VLOOKUP($B18,'sku master'!B:D,3,0),merch,2,0) -> DECKS | X18: =SUM(O18:W18) -> 0 | Y18: 10000 | Z18: =Y18*X18 -> 0 | AC18: =IF(OR(G18="",Z18>0),IF($B$1="form codes:",C18,#REF!&IF(E18="*"," US","")),"")
B19: =F19&I19 -> GB5205G045 | C19: X | F19: GB5205 | G19: =PROPER(K19) -> Geering Show Flyers Deck | I19: G045 | J19: =LEFT(L19,SEARCH(" ",L19)-1)&IF(ISERROR(VLOOKUP(I19,shapes,3,0)),""," "&VLOOKUP(I19,shapes,3,0)) -> 8" | K19: =VLOOKUP($B19,'sku master'!B:H,5,0) -> GEERING SHOW FLYERS DECK | L19: =VLOOKUP($B19,'sku master'!B:H,7,0) -> 8" X 31.5" | M19: {=INDEX('sku master'!$C$1:$C$705,MATCH($F19,'sku master'!$E$1:$E$705,0))} -> GIRL | N19: =VLOOKUP(VLOOKUP($B19,'sku master'!B:D,3,0),merch,2,0) -> DECKS | X19: =SUM(O19:W19) -> 0 | Y19: 10000 | Z19: =Y19*X19 -> 0 | AC19: =IF(OR(G19="",Z19>0),IF($B$1="form codes:",C19,#REF!&IF(E19="*"," US","")),"")
B20: =F20&I20 -> GB5205G052 | C20: X | F20: GB5205 | G20: =PROPER(K20) -> Geering Show Flyers Deck | I20: G052 | J20: =LEFT(L20,SEARCH(" ",L20)-1)&IF(ISERROR(VLOOKUP(I20,shapes,3,0)),""," "&VLOOKUP(I20,shapes,3,0)) -> 8.25" | K20: =VLOOKUP($B20,'sku master'!B:H,5,0) -> GEERING SHOW FLYERS DECK | L20: =VLOOKUP($B20,'sku master'!B:H,7,0) -> 8.25" X 31.875" | M20: {=INDEX('sku master'!$C$1:$C$705,MATCH($F20,'sku master'!$E$1:$E$705,0))} -> GIRL | N20: =VLOOKUP(VLOOKUP($B20,'sku master'!B:D,3,0),merch,2,0) -> DECKS | X20: =SUM(O20:W20) -> 0 | Y20: 10000 | Z20: =Y20*X20 -> 0 | AC20: =IF(OR(G20="",Z20>0),IF($B$1="form codes:",C20,#REF!&IF(E20="*"," US","")),"")
B21: =F21&I21 | D21: X | AC21: =IF(OR(G21="",Z21>0),IF($B$1="form codes:",D21,C21&IF(E21="*"," US","")),"") -> X
B22: =B10&" Soft Goods" -> Girl : Show Flyers Collection Soft Goods | D22: X | F22: =B22 -> Girl : Show Flyers Collection Soft Goods | O22: S | P22: M | Q22: L | R22: XL | S22: XXL | AC22: =IF(OR(G22="",Z22>0),IF($B$1="form codes:",D22,C22&IF(E22="*"," US","")),"") -> X
B23: =F23&I23 -> GSW127110010 | D23: X | E23: * | F23: GSW127110 | G23: =PROPER(K23) -> Show Flyer Hoody | I23: 010 | J23: =PROPER(L23) -> Grey Heather | K23: =VLOOKUP($B23,'sku master'!B:H,5,0) -> SHOW FLYER HOODY | L23: =VLOOKUP($B23,'sku master'!B:H,7,0) -> GREY HEATHER | M23: {=INDEX('sku master'!$C$1:$C$705,MATCH($F23,'sku master'!$E$1:$E$705,0))} -> GIRL | N23: =VLOOKUP(VLOOKUP($B23,'sku master'!B:D,3,0),merch,2,0) -> SOFTGOODS | X23: =SUM(O23:W23) -> 0 | Y23: 15000 | Z23: =Y23*X23 -> 0 | AC23: =IF(OR(G23="",Z23>0),IF($B$1="form codes:",D23,C23&IF(E23="*"," US","")),"")
B24: =F24&I24 -> GSW127110106 | D24: X | E24: * | F24: GSW127110 | G24: =PROPER(K24) -> Show Flyer Hoody | I24: 106 | J24: =PROPER(L24) -> Charcoal Heather | K24: =VLOOKUP($B24,'sku master'!B:H,5,0) -> SHOW FLYER HOODY | L24: =VLOOKUP($B24,'sku master'!B:H,7,0) -> CHARCOAL HEATHER | M24: {=INDEX('sku master'!$C$1:$C$705,MATCH($F24,'sku master'!$E$1:$E$705,0))} -> GIRL | N24: =VLOOKUP(VLOOKUP($B24,'sku master'!B:D,3,0),merch,2,0) -> SOFTGOODS | X24: =SUM(O24:W24) -> 0 | Y24: 15000 | Z24: =Y24*X24 -> 0 | AC24: =IF(OR(G24="",Z24>0),IF($B$1="form codes:",D24,C24&IF(E24="*"," US","")),"")
B25: =F25&I25 -> GTS127100001 | D25: X | E25: * | F25: GTS127100 | G25: =PROPER(K25) -> Show Flyer Tee | I25: 001 | J25: =PROPER(L25) -> Black | K25: =VLOOKUP($B25,'sku master'!B:H,5,0) -> SHOW FLYER TEE | L25: =VLOOKUP($B25,'sku master'!B:H,7,0) -> BLACK | M25: {=INDEX('sku master'!$C$1:$C$705,MATCH($F25,'sku master'!$E$1:$E$705,0))} -> GIRL | N25: =VLOOKUP(VLOOKUP($B25,'sku master'!B:D,3,0),merch,2,0) -> SOFTGOODS | X25: =SUM(O25:W25) -> 0 | Y25: 4800 | Z25: =Y25*X25 -> 0 | AC25: =IF(OR(G25="",Z25>0),IF($B$1="form codes:",D25,C25&IF(E25="*"," US","")),"")
B26: =F26&I26 -> GTS127100002 | D26: X | E26: * | F26: GTS127100 | G26: =PROPER(K26) -> Show Flyer Tee | I26: 002 | J26: =PROPER(L26) -> White | K26: =VLOOKUP($B26,'sku master'!B:H,5,0) -> SHOW FLYER TEE | L26: =VLOOKUP($B26,'sku master'!B:H,7,0) -> WHITE | M26: {=INDEX('sku master'!$C$1:$C$705,MATCH($F26,'sku master'!$E$1:$E$705,0))} -> GIRL | N26: =VLOOKUP(VLOOKUP($B26,'sku master'!B:D,3,0),merch,2,0) -> SOFTGOODS | X26: =SUM(O26:W26) -> 0 | Y26: 4800 | Z26: =Y26*X26 -> 0 | AC26: =IF(OR(G26="",Z26>0),IF($B$1="form codes:",D26,C26&IF(E26="*"," US","")),"")
B27: =F27&I27 | D27: X | AC27: =IF(OR(G27="",Z27>0),IF($B$1="form codes:",D27,C27&IF(E27="*"," US","")),"") -> X
B28: Girl : 93 TIL "Stripes" Collection | C28: X | F28: =B28 -> Girl : 93 TIL "Stripes" Collection | O28: Qty | AC28: =IF(OR(G28="",Z28>0),IF($B$1="form codes:",C28,#REF!&IF(E28="*"," US","")),"") -> X
B29: =F29&I29 -> GB5206G052 | C29: X | F29: GB5206 | G29: =PROPER(K29) -> Davis 93 Til Deck | I29: G052 | J29: =LEFT(L29,SEARCH(" ",L29)-1)&IF(ISERROR(VLOOKUP(I29,shapes,3,0)),""," "&VLOOKUP(I29,shapes,3,0)) -> 8.25" | K29: =VLOOKUP($B29,'sku master'!B:H,5,0) -> DAVIS 93 TIL DECK | L29: =VLOOKUP($B29,'sku master'!B:H,7,0) -> 8.25" X 31.875" | M29: {=INDEX('sku master'!$C$1:$C$705,MATCH($F29,'sku master'!$E$1:$E$705,0))} -> GIRL | N29: =VLOOKUP(VLOOKUP($B29,'sku master'!B:D,3,0),merch,2,0) -> DECKS | X29: =SUM(O29:W29) -> 0 | Y29: 10000 | Z29: =Y29*X29 -> 0 | AC29: =IF(OR(G29="",Z29>0),IF($B$1="form codes:",C29,#REF!&IF(E29="*"," US","")),"")
B30: =F30&I30 -> GB5206G096 | C30: X | F30: GB5206 | G30: =PROPER(K30) -> Davis 93 Til Deck | I30: G096 | J30: =LEFT(L30,SEARCH(" ",L30)-1)&IF(ISERROR(VLOOKUP(I30,shapes,3,0)),""," "&VLOOKUP(I30,shapes,3,0)) -> 8.5" | K30: =VLOOKUP($B30,'sku master'!B:H,5,0) -> DAVIS 93 TIL DECK | L30: =VLOOKUP($B30,'sku master'!B:H,7,0) -> 8.5" X 31.875" | M30: {=INDEX('sku master'!$C$1:$C$705,MATCH($F30,'sku master'!$E$1:$E$705,0))} -> GIRL | N30: =VLOOKUP(VLOOKUP($B30,'sku master'!B:D,3,0),merch,2,0) -> DECKS | X30: =SUM(O30:W30) -> 0 | Y30: 10000 | Z30: =Y30*X30 -> 0 | AC30: =IF(OR(G30="",Z30>0),IF($B$1="form codes:",C30,#REF!&IF(E30="*"," US","")),"")
B31: =F31&I31 -> GB5207G023 | C31: X | F31: GB5207 | G31: =PROPER(K31) -> Kennedy 93 Til Deck | I31: G023 | J31: =LEFT(L31,SEARCH(" ",L31)-1)&IF(ISERROR(VLOOKUP(I31,shapes,3,0)),""," "&VLOOKUP(I31,shapes,3,0)) -> 8.125" | K31: =VLOOKUP($B31,'sku master'!B:H,5,0) -> KENNEDY 93 TIL DECK | L31: =VLOOKUP($B31,'sku master'!B:H,7,0) -> 8.125" X 31.625" | M31: {=INDEX('sku master'!$C$1:$C$705,MATCH($F31,'sku master'!$E$1:$E$705,0))} -> GIRL | N31: =VLOOKUP(VLOOKUP($B31,'sku master'!B:D,3,0),merch,2,0) -> DECKS | X31: =SUM(O31:W31) -> 0 | Y31: 10000 | Z31: =Y31*X31 -> 0 | AC31: =IF(OR(G31="",Z31>0),IF($B$1="form codes:",C31,#REF!&IF(E31="*"," US","")),"")
B32: =F32&I32 -> GB5207G039 | C32: X | F32: GB5207 | G32: =PROPER(K32) -> Kennedy 93 Til Deck | I32: G039 | J32: =LEFT(L32,SEARCH(" ",L32)-1)&IF(ISERROR(VLOOKUP(I32,shapes,3,0)),""," "&VLOOKUP(I32,shapes,3,0)) -> 8.5" | K32: =VLOOKUP($B32,'sku master'!B:H,5,0) -> KENNEDY 93 TIL DECK | L32: =VLOOKUP($B32,'sku master'!B:H,7,0) -> 8.5" X 31.75" | M32: {=INDEX('sku master'!$C$1:$C$705,MATCH($F32,'sku master'!$E$1:$E$705,0))} -> GIRL | N32: =VLOOKUP(VLOOKUP($B32,'sku master'!B:D,3,0),merch,2,0) -> DECKS | X32: =SUM(O32:W32) -> 0 | Y32: 10000 | Z32: =Y32*X32 -> 0 | AC32: =IF(OR(G32="",Z32>0),IF($B$1="form codes:",C32,#REF!&IF(E32="*"," US","")),"")
B33: =F33&I33 -> GB5208G018 | C33: X | F33: GB5208 | G33: =PROPER(K33) -> Lil Dre 93 Til Deck | I33: G018 | J33: =LEFT(L33,SEARCH(" ",L33)-1)&IF(ISERROR(VLOOKUP(I33,shapes,3,0)),""," "&VLOOKUP(I33,shapes,3,0)) -> 8" | K33: =VLOOKUP($B33,'sku master'!B:H,5,0) -> LIL DRE 93 TIL DECK | L33: =VLOOKUP($B33,'sku master'!B:H,7,0) -> 8" X 31.5" | M33: {=INDEX('sku master'!$C$1:$C$705,MATCH($F33,'sku master'!$E$1:$E$705,0))} -> GIRL | N33: =VLOOKUP(VLOOKUP($B33,'sku master'!B:D,3,0),merch,2,0) -> DECKS | X33: =SUM(O33:W33) -> 0 | Y33: 10000 | Z33: =Y33*X33 -> 0 | AC33: =IF(OR(G33="",Z33>0),IF($B$1="form codes:",C33,#REF!&IF(E33="*"," US","")),"")
B34: =F34&I34 -> GB5208G069 | C34: X | F34: GB5208 | G34: =PROPER(K34) -> Lil Dre 93 Til Deck | I34: G069 | J34: =LEFT(L34,SEARCH(" ",L34)-1)&IF(ISERROR(VLOOKUP(I34,shapes,3,0)),""," "&VLOOKUP(I34,shapes,3,0)) -> 8.25" | K34: =VLOOKUP($B34,'sku master'!B:H,5,0) -> LIL DRE 93 TIL DECK | L34: =VLOOKUP($B34,'sku master'!B:H,7,0) -> 8.25" X 31.875" | M34: {=INDEX('sku master'!$C$1:$C$705,MATCH($F34,'sku master'!$E$1:$E$705,0))} -> GIRL | N34: =VLOOKUP(VLOOKUP($B34,'sku master'!B:D,3,0),merch,2,0) -> DECKS | X34: =SUM(O34:W34) -> 0 | Y34: 10000 | Z34: =Y34*X34 -> 0 | AC34: =IF(OR(G34="",Z34>0),IF($B$1="form codes:",C34,#REF!&IF(E34="*"," US","")),"")
B35: =F35&I35 -> GB5209G016 | C35: X | F35: GB5209 | G35: =PROPER(K35) -> Brophy 93 Til Deck | I35: G016 | J35: =LEFT(L35,SEARCH(" ",L35)-1)&IF(ISERROR(VLOOKUP(I35,shapes,3,0)),""," "&VLOOKUP(I35,shapes,3,0)) -> 8.375" | K35: =VLOOKUP($B35,'sku master'!B:H,5,0) -> BROPHY 93 TIL DECK | L35: =VLOOKUP($B35,'sku master'!B:H,7,0) -> 8.375" X 31.75" | M35: {=INDEX('sku master'!$C$1:$C$705,MATCH($F35,'sku master'!$E$1:$E$705,0))} -> GIRL | N35: =VLOOKUP(VLOOKUP($B35,'sku master'!B:D,3,0),merch,2,0) -> DECKS | X35: =SUM(O35:W35) -> 0 | Y35: 10000 | Z35: =Y35*X35 -> 0 | AC35: =IF(OR(G35="",Z35>0),IF($B$1="form codes:",C35,#REF!&IF(E35="*"," US","")),"")
B36: =F36&I36 -> GB5209G068 | C36: X | F36: GB5209 | G36: =PROPER(K36) -> Brophy 93 Til Deck | I36: G068 | J36: =LEFT(L36,SEARCH(" ",L36)-1)&IF(ISERROR(VLOOKUP(I36,shapes,3,0)),""," "&VLOOKUP(I36,shapes,3,0)) -> 8.8" | K36: =VLOOKUP($B36,'sku master'!B:H,5,0) -> BROPHY 93 TIL DECK | L36: =VLOOKUP($B36,'sku master'!B:H,7,0) -> 8.8" X 32.625" | M36: {=INDEX('sku master'!$C$1:$C$705,MATCH($F36,'sku master'!$E$1:$E$705,0))} -> GIRL | N36: =VLOOKUP(VLOOKUP($B36,'sku master'!B:D,3,0),merch,2,0) -> DECKS | X36: =SUM(O36:W36) -> 0 | Y36: 10000 | Z36: =Y36*X36 -> 0 | AC36: =IF(OR(G36="",Z36>0),IF($B$1="form codes:",C36,#REF!&IF(E36="*"," US","")),"")
B37: =F37&I37 | D37: X | AC37: =IF(OR(G37="",Z37>0),IF($B$1="form codes:",D37,C37&IF(E37="*"," US","")),"") -> X
B38: =B28&" Softgoods" -> Girl : 93 TIL "Stripes" Collection Softgoods | D38: X | F38: =B38 -> Girl : 93 TIL "Stripes" Collection Softgoods | O38: S | P38: M | Q38: L | R38: XL | S38: XXL | AC38: =IF(OR(G38="",Z38>0),IF($B$1="form codes:",D38,C38&IF(E38="*"," US","")),"") -> X
B39: =F39&I39 -> GSW127111001 | D39: X | E39: * | F39: GSW127111 | G39: OG 93 Til Stripes Hoody | I39: 001 | J39: =PROPER(L39) -> Black | K39: =VLOOKUP($B39,'sku master'!B:H,5,0) -> OG 93 TIL STRIPES HOODY | L39: =VLOOKUP($B39,'sku master'!B:H,7,0) -> BLACK | M39: {=INDEX('sku master'!$C$1:$C$705,MATCH($F39,'sku master'!$E$1:$E$705,0))} -> GIRL | N39: =VLOOKUP(VLOOKUP($B39,'sku master'!B:D,3,0),merch,2,0) -> SOFTGOODS | X39: =SUM(O39:W39) -> 0 | Y39: 15000 | Z39: =Y39*X39 -> 0 | AC39: =IF(OR(G39="",Z39>0),IF($B$1="form codes:",D39,C39&IF(E39="*"," US","")),"")
B40: =F40&I40 -> GSW127111010 | D40: X | E40: * | F40: GSW127111 | G40: OG 93 Til Stripes Hoody | I40: 010 | J40: =PROPER(L40) -> Grey Heather | K40: =VLOOKUP($B40,'sku master'!B:H,5,0) -> OG 93 TIL STRIPES HOODY | L40: =VLOOKUP($B40,'sku master'!B:H,7,0) -> GREY HEATHER | M40: {=INDEX('sku master'!$C$1:$C$705,MATCH($F40,'sku master'!$E$1:$E$705,0))} -> GIRL | N40: =VLOOKUP(VLOOKUP($B40,'sku master'!B:D,3,0),merch,2,0) -> SOFTGOODS | X40: =SUM(O40:W40) -> 0 | Y40: 15000 | Z40: =Y40*X40 -> 0 | AC40: =IF(OR(G40="",Z40>0),IF($B$1="form codes:",D40,C40&IF(E40="*"," US","")),"")
...

Sheet sku master
A1: check | B1: sku | C1: sfsgroup_name1 | D1: sfsgroup_name3 | E1: style | F1: style_name | G1: color_code | H1: sfc_colorname | I1: season | K1: b_price | L1: sfsgroup_name5
A2: =IF(ISERROR(VLOOKUP($B2,'WR52 D1'!$B:$B,1,0)),"","X") -> X | B2: =E2&G2 -> CA4201001 | C2: CHOCOLATE | D2: HARDWARE | E2: CA4201 | F2: CHOCOLATE CHUNK 20 GRIP PAK | G2: 001 | H2: BLACK | I2: WR46 | K2: 112.5
A3: =IF(ISERROR(VLOOKUP($B3,'WR52 D1'!$B:$B,1,0)),"","X") -> X | B3: =E3&G3 -> CA4204001 | C3: CHOCOLATE | D3: MISC. | E3: CA4204 | F3: CHOCOLATE FOREVER 20 GRIP PAK | G3: 001 | H3: BLACK | I3: WR46 | K3: 112.5 | L3: DROP SHIP 1
A4: =IF(ISERROR(VLOOKUP($B4,'WR52 D1'!$B:$B,1,0)),"","X") -> X | B4: =E4&G4 -> CA4410012 | C4: CHOCOLATE | D4: ACCESSORIES | E4: CA4410 | F4: CHOCOLATE CHUNK GRILL | G4: 012 | H4: RED | I4: WR41 | K4: 42 | L4: DROP SHIP 3
A5: =IF(ISERROR(VLOOKUP($B5,'WR52 D1'!$B:$B,1,0)),"","X") -> X | B5: =E5&G5 -> CA4701001 | C5: CHOCOLATE | D5: MISC. | E5: CA4701 | F5: CHOC CHUNK SPOT CHAIR | G5: 001 | H5: BLACK | I5: WR47 | K5: 21 | L5: DROP SHIP 2
A6: =IF(ISERROR(VLOOKUP($B6,'WR52 D1'!$B:$B,1,0)),"","X") -> X | B6: =E6&G6 -> CA4831001 | C6: CHOCOLATE | D6: BAGS | E6: CA4831 | F6: CHOCOLATE TRAVEL DUFFEL | G6: 001 | H6: BLACK | I6: WR48 | K6: 55 | L6: DROP SHIP 3
A7: =IF(ISERROR(VLOOKUP($B7,'WR52 D1'!$B:$B,1,0)),"","X") -> X | B7: =E7&G7 -> CA4832001 | C7: CHOCOLATE | D7: BAGS | E7: CA4832 | F7: CHOCOLATE SLING SACK | G7: 001 | H7: BLACK | I7: WR48 | K7: 22 | L7: DROP SHIP 3
A8: =IF(ISERROR(VLOOKUP($B8,'WR52 D1'!$B:$B,1,0)),"","X") -> X | B8: =E8&G8 -> CA4833001 | C8: CHOCOLATE | D8: BAGS | E8: CA4833 | F8: CHOCOLATE BACKPACK | G8: 001 | H8: BLACK | I8: WR48 | K8: 42 | L8: DROP SHIP 3
A9: =IF(ISERROR(VLOOKUP($B9,'WR52 D1'!$B:$B,1,0)),"","X") -> X | B9: =E9&G9 -> CA4845012 | C9: CHOCOLATE | D9: ACCESSORIES | E9: CA4845 | F9: CHOCOLATE LEDGE WAX | G9: 012 | H9: RED | I9: WR48 | K9: 4.5 | L9: DROP SHIP 4
A10: =IF(ISERROR(VLOOKUP($B10,'WR52 D1'!$B:$B,1,0)),"","X") -> X | B10: =E10&G10 -> CA4846012 | C10: CHOCOLATE | D10: ACCESSORIES | E10: CA4846 | F10: CHOCOLATE CUBE CANDLE | G10: 012 | H10: RED | I10: WR48 | K10: 9.75 | L10: DROP SHIP 4
A11: =IF(ISERROR(VLOOKUP($B11,'WR52 D1'!$B:$B,1,0)),"","X") -> X | B11: =E11&G11 -> CA9402050 | C11: CHOCOLATE | D11: HARDWARE | E11: CA9402 | F11: CHOCOLATE ALLEN BULK 20 PACK | G11: 050 | H11: NON COLOR | I11: WR46 | K11: 50
A12: =IF(ISERROR(VLOOKUP($B12,'WR52 D1'!$B:$B,1,0)),"","X") -> X | B12: =E12&G12 -> CA9403050 | C12: CHOCOLATE | D12: HARDWARE | E12: CA9403 | F12: CHOCOLATE PHILLIPS BULK 20 PACK | G12: 050 | H12: NON COLOR | I12: WR46 | K12: 50
A13: =IF(ISERROR(VLOOKUP($B13,'WR52 D1'!$B:$B,1,0)),"","X") -> X | B13: =E13&G13 -> CA9405050 | C13: CHOCOLATE | D13: HARDWARE | E13: CA9405 | F13: CHOCOLATE ABEC 5 BULK 12 PACK | G13: 050 | H13: NON COLOR | I13: WR46 | K13: 90
A14: =IF(ISERROR(VLOOKUP($B14,'WR52 D1'!$B:$B,1,0)),"","X") -> X | B14: =E14&G14 -> CA9407050 | C14: CHOCOLATE | D14: HARDWARE | E14: CA9407 | F14: CHOCOLATE SWISS BULK 12 PACK | G14: 050 | H14: NON COLOR | I14: WR46 | K14: 135
A15: =IF(ISERROR(VLOOKUP($B15,'WR52 D1'!$B:$B,1,0)),"","X") -> X | B15: =E15&G15 -> CA9409001 | C15: CHOCOLATE | D15: ACCESSORIES | E15: CA9409 | F15: CHOCOLATE RECYCLED RAILS | G15: 001 | H15: BLACK | I15: ALL | K15: 5 | L15: DROP SHIP 1
A16: =IF(ISERROR(VLOOKUP($B16,'WR52 D1'!$B:$B,1,0)),"","X") -> X | B16: =E16&G16 -> CA9409012 | C16: CHOCOLATE | D16: ACCESSORIES | E16: CA9409 | F16: CHOCOLATE RECYCLED RAILS | G16: 012 | H16: RED | I16: ALL | K16: 5 | L16: DROP SHIP 1
A17: =IF(ISERROR(VLOOKUP($B17,'WR52 D1'!$B:$B,1,0)),"","X") -> X | B17: =E17&G17 -> CD4111024 | C17: CHOCOLATE | D17: DECALS | E17: CD4111 | F17: CHOC CHUNK 5" DECAL- 10 PK | G17: 024 | H17: ASSORTED COLORS | I17: WR41 | K17: 9 | L17: DROP SHIP 3
A18: =IF(ISERROR(VLOOKUP($B18,'WR52 D1'!$B:$B,1,0)),"","X") -> X | B18: =E18&G18 -> CD4112024 | C18: CHOCOLATE | D18: DECALS | E18: CD4112 | F18: CHOC CHUNK 3" DECAL- 10 PK | G18: 024 | H18: ASSORTED COLORS | I18: WR41 | K18: 4 | L18: DROP SHIP 3
A19: =IF(ISERROR(VLOOKUP($B19,'WR52 D1'!$B:$B,1,0)),"","X") -> X | B19: =E19&G19 -> CD4113024 | C19: CHOCOLATE | D19: DECALS | E19: CD4113 | F19: CHOC CHUNK 5" DECAL- 100 PK | G19: 024 | H19: ASSORTED COLORS | I19: WR41 | K19: 40 | L19: DROP SHIP 3
A20: =IF(ISERROR(VLOOKUP($B20,'WR52 D1'!$B:$B,1,0)),"","X") -> X | B20: =E20&G20 -> CD4114024 | C20: CHOCOLATE | D20: DECALS | E20: CD4114 | F20: CHOC CHUNK 3" DECAL- 100 PK | G20: 024 | H20: ASSORTED COLORS | I20: WR41 | K20: 30 | L20: DROP SHIP 3
A21: =IF(ISERROR(VLOOKUP($B21,'WR52 D1'!$B:$B,1,0)),"","X") -> X | B21: =E21&G21 -> CD5013749 | C21: CHOCOLATE | D21: DECALS | E21: CD5013 | F21: CHOC TROMPO DECAL 4 PK | G21: 749 | H21: MULTI COLOR | I21: WR50 | K21: 4 | L21: DROP SHIP 2
A22: =IF(ISERROR(VLOOKUP($B22,'WR52 D1'!$B:$B,1,0)),"","X") -> X | B22: =E22&G22 -> CH125114001 | C22: CHOCOLATE | D22: HATS | E22: CH125114 | F22: CHOC ORIGINAL CHUNK '94 HAT | G22: 001 | H22: BLACK | I22: WR49 | K22: 16 | L22: DROP SHIP 2
A23: =IF(ISERROR(VLOOKUP($B23,'WR52 D1'!$B:$B,1,0)),"","X") -> X | B23: =E23&G23 -> CSW125110777 | C23: CHOCOLATE | D23: SWEATSHIRTS | E23: CSW125110 | F23: CHOC CHUNK CLASSIC HOOD | G23: 777 | H23: GUNMETAL HEATHER | I23: WR49 | K23: 33.5 | L23: DROP SHIP 4
A24: =IF(ISERROR(VLOOKUP($B24,'WR52 D1'!$B:$B,1,0)),"","X") -> X | B24: =E24&G24 -> CSW125202001 | C24: CHOCOLATE | D24: SWEATSHIRTS | E24: CSW125202 | F24: CHOC CHUNK CLASSIC CREW | G24: 001 | H24: BLACK | I24: WR49 | K24: 28.5 | L24: DROP SHIP 4
A25: =IF(ISERROR(VLOOKUP($B25,'WR52 D1'!$B:$B,1,0)),"","X") -> X | B25: =E25&G25 -> CTA4005749 | C25: CRAILTAP | D25: ACCESSORIES | E25: CTA4005 | F25: CRAILTAP RIP THE GRIP PENS | G25: 749 | H25: MULTI COLOR | I25: WR41 | K25: 6.5 | L25: DROP SHIP 3
A26: =IF(ISERROR(VLOOKUP($B26,'WR52 D1'!$B:$B,1,0)),"","X") -> X | B26: =E26&G26 -> CTA4310797 | C26: CRAILTAP | D26: ACCESSORIES | E26: CTA4310 | F26: CRAILTAP CERAMIC TRAY | G26: 797 | H26: RAINBOW | I26: WR44 | K26: 8.75 | L26: DROP SHIP 1
... A55: =IF(ISERROR(VLOOKUP($B55,'WR52 D1'!$B:$B,1,0)),"","X") -> X | B55: =E55&G55 -> GD4744024 | C55: GIRL | D55: DECALS | E55: GD4744 | F55: GIRL OUT OF THE BOX 10 PACK | G55: 024 | H55: ASSORTED COLORS | I55: WR47 | K55: 6 | L55: DROP SHIP 4
A56: =IF(ISERROR(VLOOKUP($B56,'[1]WR48 #1'!$B:$B,1,0)),"","X") | B56: =E56&G56 -> GD4745024 | C56: GIRL | D56: DECALS | E56: GD4745 | F56: GIRL SKETCHY OG 10 PACK | G56: 024 | H56: ASSORTED COLORS | I56: WR47 | K56: 6 | L56: DROP SHIP 4
A57: =IF(ISERROR(VLOOKUP($B57,'WR52 D1'!$B:$B,1,0)),"","X") -> X | B57: =E57&G57 -> GD5002749 | C57: GIRL | D57: DECALS | E57: GD5002 | F57: GIRL SUMMER STICKER SET 5 PK | G57: 749 | H57: MULTI COLOR | I57: WR50 | K57: 5 | L57: DROP SHIP 1
A58: =IF(ISERROR(VLOOKUP($B58,'WR52 D1'!$B:$B,1,0)),"","X") -> X | B58: =E58&G58 -> GD5003749 | C58: GIRL | D58: DECALS | E58: GD5003 | F58: GIRL BLAMMO STICKER SET 4 PK | G58: 749 | H58: MULTI COLOR | I58: WR50 | K58: 4 | L58: DROP SHIP 2
A59: =IF(ISERROR(VLOOKUP($B59,'WR52 D1'!$B:$B,1,0)),"","X") -> X | B59: =E59&G59 -> GH125111001 | C59: GIRL | D59: HATS | E59: GH125111 | F59: GIRL OG CLASSIC SNAPBACK | G59: 001 | H59: BLACK | I59: WR49 | K59: 16 | L59: DROP SHIP 1
A60: =IF(ISERROR(VLOOKUP($B60,'WR52 D1'!$B:$B,1,0)),"","X") -> X | B60: =E60&G60 -> GH125201001 | C60: GIRL | D60: BEANIES | E60: GH125201 | F60: GIRL CLASSIC OG BEANIE | G60: 001 | H60: BLACK | I60: WR49 | K60: 14 | L60: DROP SHIP 1
A61: =IF(ISERROR(VLOOKUP($B61,'WR52 D1'!$B:$B,1,0)),"","X") -> X | B61: =E61&G61 -> GTS125125001 | C61: GIRL | D61: T SHIRTS | E61: GTS125125 | F61: GIRL CLASSIC OG TEE | G61: 001 | H61: BLACK | I61: WR49 | K61: 13.5 | L61: DROP SHIP 2
A62: =IF(ISERROR(VLOOKUP($B62,'WR52 D1'!$B:$B,1,0)),"","X") -> X | B62: =E62&G62 -> GTS125125002 | C62: GIRL | D62: T SHIRTS | E62: GTS125125 | F62: GIRL CLASSIC OG TEE | G62: 002 | H62: WHITE | I62: WR49 | K62: 13.5 | L62: DROP SHIP 2
A63: =IF(ISERROR(VLOOKUP($B63,'WR52 D1'!$B:$B,1,0)),"","X") -> X | B63: =E63&G63 -> GTS125125811 | C63: GIRL | D63: T SHIRTS | E63: GTS125125 | F63: GIRL CLASSIC OG TEE | G63: 811 | H63: ASH HEATHER | I63: WR49 | K63: 13.5 | L63: DROP SHIP 2
A64: =IF(ISERROR(VLOOKUP($B64,'WR52 D1'!$B:$B,1,0)),"","X") -> X | B64: =E64&G64 -> GTS125203002 | C64: GIRL | D64: T SHIRTS | E64: GTS125203 | F64: GIRL CLASSIC L/S TEE | G64: 002 | H64: WHITE | I64: WR49 | K64: 15.75 | L64: DROP SHIP 2
A65: =IF(ISERROR(VLOOKUP($B65,'WR52 D1'!$B:$B,1,0)),"","X") | B65: =E65&G65 -> RH322202001 | C65: ROYAL | D65: BEANIES | E65: RH322202 | F65: ROYAL SCRIPT PATCH BEANIE | G65: 001 | H65: BLACK | I65: WR44 | K65: 10.75 | L65: DROP SHIP 2
A66: =IF(ISERROR(VLOOKUP($B66,'WR52 D1'!$B:$B,1,0)),"","X") | B66: =E66&G66 -> RH323101001 | C66: ROYAL | D66: HATS | E66: RH323101 | F66: ROYAL BRICK SNAPBACK HAT | G66: 001 | H66: BLACK | I66: WR46 | K66: 14.25 | L66: DROP SHIP 3
A67: =IF(ISERROR(VLOOKUP($B67,'WR52 D1'!$B:$B,1,0)),"","X") | B67: =E67&G67 -> RTR2050501 | C67: ROYAL | D67: TRUCKS | E67: RTR2050 | F67: THE ROYAL TRUCK | G67: 501 | H67: RAW (NO LOGO) | I67: WR41 | K67: 11.5
A68: =IF(ISERROR(VLOOKUP($B68,'WR52 D1'!$B:$B,1,0)),"","X") | B68: =E68&G68 -> RTR2051501 | C68: ROYAL | D68: TRUCKS | E68: RTR2051 | F68: THE ROYAL INVERTED TRUCK | G68: 501 | H68: RAW (NO LOGO) | I68: WR41 | K68: 12.5
...

Sheet upc master
A1: check | B1: sku | C1: udf_zzxstrpt_001 | D1: season | E1: style | F1: style_name | G1: color_code | H1: sfc_colorname | I1: sizes
A2: =IF(ISERROR(VLOOKUP($B2,'WR52 D1'!$B:$B,1,0)),"","X") -> X | B2: =E2&G2 -> CA9409001 | C2: 889846231768 | D2: ALL | E2: CA9409 | F2: CHOCOLATE RECYCLED RAILS | G2: 001 | H2: BLACK | I2: NS
A3: =IF(ISERROR(VLOOKUP($B3,'WR52 D1'!$B:$B,1,0)),"","X") -> X | B3: =E3&G3 -> CA9409012 | C3: 889846231751 | D3: ALL | E3: CA9409 | F3: CHOCOLATE RECYCLED RAILS | G3: 012 | H3: RED | I3: NS
A4: =IF(ISERROR(VLOOKUP($B4,'WR52 D1'!$B:$B,1,0)),"","X") -> X | B4: =E4&G4 -> CD4110749 | C4: 889846213825 | D4: WR41 | E4: CD4110 | F4: CHOCO HERITAGE STICKER 10 PACK | G4: 749 | H4: MULTI COLOR | I4: NS
A5: =IF(ISERROR(VLOOKUP($B5,'WR52 D1'!$B:$B,1,0)),"","X") -> X | B5: =E5&G5 -> CD4111024 | C5: 889846213689 | D5: WR41 | E5: CD4111 | F5: CHOC CHUNK 5" DECAL- 10 PK | G5: 024 | H5: ASSORTED COLORS | I5: NS
A6: =IF(ISERROR(VLOOKUP($B6,'WR52 D1'!$B:$B,1,0)),"","X") -> X | B6: =E6&G6 -> CD4112024 | C6: 889846213702 | D6: WR41 | E6: CD4112 | F6: CHOC CHUNK 3" DECAL- 10 PK | G6: 024 | H6: ASSORTED COLORS | I6: NS
A7: =IF(ISERROR(VLOOKUP($B7,'WR52 D1'!$B:$B,1,0)),"","X") -> X | B7: =E7&G7 -> CD4113024 | C7: 889846213696 | D7: WR41 | E7: CD4113 | F7: CHOC CHUNK 5" DECAL- 100 PK | G7: 024 | H7: ASSORTED COLORS | I7: NS
A8: =IF(ISERROR(VLOOKUP($B8,'WR52 D1'!$B:$B,1,0)),"","X") -> X | B8: =E8&G8 -> CD4114024 | C8: 889846213719 | D8: WR41 | E8: CD4114 | F8: CHOC CHUNK 3" DECAL- 100 PK | G8: 024 | H8: ASSORTED COLORS | I8: NS
A9: =IF(ISERROR(VLOOKUP($B9,'WR52 D1'!$B:$B,1,0)),"","X") -> X | B9: =E9&G9 -> CTA4005749 | C9: 889846218530 | D9: WR41 | E9: CTA4005 | F9: CRAILTAP RIP THE GRIP PENS | G9: 749 | H9: MULTI COLOR | I9: NS
A10: =IF(ISERROR(VLOOKUP($B10,'WR52 D1'!$B:$B,1,0)),"","X") | B10: =E10&G10 -> RTR2050501 | C10: 889846194155 | D10: WR41 | E10: RTR2050 | F10: THE ROYAL TRUCK | G10: 501 | H10: RAW (NO LOGO) | I10: 127
A11: =IF(ISERROR(VLOOKUP($B11,'WR52 D1'!$B:$B,1,0)),"","X") | B11: =E11&G11 -> RTR2050501 | C11: 889846194162 | D11: WR41 | E11: RTR2050 | F11: THE ROYAL TRUCK | G11: 501 | H11: RAW (NO LOGO) | I11: 139
A12: =IF(ISERROR(VLOOKUP($B12,'WR52 D1'!$B:$B,1,0)),"","X") | B12: =E12&G12 -> RTR2050501 | C12: 889846194179 | D12: WR41 | E12: RTR2050 | F12: THE ROYAL TRUCK | G12: 501 | H12: RAW (NO LOGO) | I12: 144
A13: =IF(ISERROR(VLOOKUP($B13,'WR52 D1'!$B:$B,1,0)),"","X") | B13: =E13&G13 -> RTR2050501 | C13: 889846194186 | D13: WR41 | E13: RTR2050 | F13: THE ROYAL TRUCK | G13: 501 | H13: RAW (NO LOGO) | I13: 149
... A344: =IF(ISERROR(VLOOKUP($B344,'WR52 D1'!$B:$B,1,0)),"","X") -> X | B344: =E344&G344 -> CD5012749 | C344: 889846349173 | D344: WR50 | E344: CD5012 | F344: CHOC LOST SINGLES DECAL 4 PK | G344: 749 | H344: MULTI COLOR | I344: NS

Sheet shapes
A1: Size | B1: Description | C1: Name
A2: G036 | B2: 8.5" X 32.375" "BURLY" | C2: Burly
A3: G041 | B3: 9.125" X 32.625" - PHAWT | C3: Phawt
A4: G042 | B4: 8.5" X 31.625" SKIDUL | C4: Skidul
A5: G037 | B5: 8.75" X 32.25" WB 14" | C5: Big Boy Jr
A6: G040 | B6: 9" X 32.25" "BIG BOY" | C6: Big Boy
A7: G055 | B7: 9" X 32"- LOVE SEAT | C7: Love Seat
A8: G048 | B8: 9.25" X 32" X 13.875" WB | C8: Couch

Sheet merchtype
A1: Merch Type | B1: Revised
A2: ACCESSORIES | B2: ACCESSORIES
A3: BAGS | B3: ACCESSORIES
A4: BELTS | B4: ACCESSORIES
A5: BOTTOMS | B5: SOFTGOODS
A6: PROMOTIONAL | B6: ACCESSORIES
A7: COMPLETES | B7: COMPLETES
A8: DECALS | B8: ACCESSORIES
A9: DECKS | B9: DECKS
A10: HARDWARE | B10: ACCESSORIES
A11: BEANIES | B11: HATS
A12: HATS | B12: HATS
... A23: WHEELS | B23: WHEELS
